BEGIN:VCALENDAR
VERSION:2.0
PRODID:-//Congregation B&#039;nai Tikvah - ECPv6.15.20//NONSGML v1.0//EN
CALSCALE:GREGORIAN
METHOD:PUBLISH
X-WR-CALNAME:Congregation B&#039;nai Tikvah
X-ORIGINAL-URL:https://bnaitikvah.org
X-WR-CALDESC:Events for Congregation B&#039;nai Tikvah
REFRESH-INTERVAL;VALUE=DURATION:PT1H
X-Robots-Tag:noindex
X-PUBLISHED-TTL:PT1H
BEGIN:VTIMEZONE
TZID:America/New_York
BEGIN:DAYLIGHT
TZOFFSETFROM:-0500
TZOFFSETTO:-0400
TZNAME:EDT
DTSTART:20250309T070000
END:DAYLIGHT
BEGIN:STANDARD
TZOFFSETFROM:-0400
TZOFFSETTO:-0500
TZNAME:EST
DTSTART:20251102T060000
END:STANDARD
BEGIN:DAYLIGHT
TZOFFSETFROM:-0500
TZOFFSETTO:-0400
TZNAME:EDT
DTSTART:20260308T070000
END:DAYLIGHT
BEGIN:STANDARD
TZOFFSETFROM:-0400
TZOFFSETTO:-0500
TZNAME:EST
DTSTART:20261101T060000
END:STANDARD
BEGIN:DAYLIGHT
TZOFFSETFROM:-0500
TZOFFSETTO:-0400
TZNAME:EDT
DTSTART:20270314T070000
END:DAYLIGHT
BEGIN:STANDARD
TZOFFSETFROM:-0400
TZOFFSETTO:-0500
TZNAME:EST
DTSTART:20271107T060000
END:STANDARD
END:VTIMEZONE
BEGIN:VEVENT
DTSTART;TZID=America/New_York:20260423T193000
DTEND;TZID=America/New_York:20260423T194500
DTSTAMP:20260424T173223
CREATED:20250925T143722Z
LAST-MODIFIED:20250925T145435Z
UID:10006314-1776972600-1776973500@bnaitikvah.org
SUMMARY:Thursday Evening Minyan
DESCRIPTION:Evening minyan is nightly at 7:30 and can be streamed via our zoom room with the appropriate password.
URL:https://bnaitikvah.org/event/evening-minyan/2026-04-23/
LOCATION:Congregation B’nai Tikvah\, 1001 Finnegans Lane\, North Brunswick\, NJ\, 08902\, United States
CATEGORIES:Services
ORGANIZER;CN="Congregation B'nai Tikvah":MAILTO:office@bnaitikvah.org
END:VEVENT
BEGIN:VEVENT
DTSTART;TZID=America/New_York:20260423T140000
DTEND;TZID=America/New_York:20260423T140000
DTSTAMP:20260424T173223
CREATED:20260316T175032Z
LAST-MODIFIED:20260316T175032Z
UID:10007114-1776952800-1776952800@bnaitikvah.org
SUMMARY:Rabbi Wolkoff’s Monroe Lecture
DESCRIPTION:
URL:https://bnaitikvah.org/event/rabbi-wolkoffs-monroe-lecture-2/
LOCATION:Congregation B’nai Tikvah\, 1001 Finnegans Lane\, North Brunswick\, NJ\, 08902\, United States
ATTACH;FMTTYPE=image/jpeg:https://bnaitikvah.org/wp-content/uploads/2025/01/Rabbi-Wolkoffs-Monroe-Lecture-Series-Made-with-PosterMyWall-1-e1736451910890.jpg
ORGANIZER;CN="Congregation B'nai Tikvah":MAILTO:office@bnaitikvah.org
END:VEVENT
BEGIN:VEVENT
DTSTART;TZID=America/New_York:20260423T080000
DTEND;TZID=America/New_York:20260423T090000
DTSTAMP:20260424T173223
CREATED:20250928T160254Z
LAST-MODIFIED:20250928T160610Z
UID:10006895-1776931200-1776934800@bnaitikvah.org
SUMMARY:Thursday Morning Minyan
DESCRIPTION:Thursday morning minyan is weekly at 8:00am and can be streamed via our zoom room with the appropriate password.
URL:https://bnaitikvah.org/event/35661/2026-04-23/
LOCATION:Congregation B’nai Tikvah\, 1001 Finnegans Lane\, North Brunswick\, NJ\, 08902\, United States
CATEGORIES:Services
ORGANIZER;CN="Congregation B'nai Tikvah":MAILTO:office@bnaitikvah.org
END:VEVENT
BEGIN:VEVENT
DTSTART;TZID=America/New_York:20260422T193000
DTEND;TZID=America/New_York:20260422T194500
DTSTAMP:20260424T173223
CREATED:20250925T174036Z
LAST-MODIFIED:20250925T174036Z
UID:10006813-1776886200-1776887100@bnaitikvah.org
SUMMARY:Wednesday Evening Minyan
DESCRIPTION:Evening minyan is nightly at 7:30 and can be streamed via our zoom room with the appropriate password.
URL:https://bnaitikvah.org/event/wednesday-evening-minyan/2026-04-22/
LOCATION:Congregation B’nai Tikvah\, 1001 Finnegans Lane\, North Brunswick\, NJ\, 08902\, United States
CATEGORIES:Services
ORGANIZER;CN="Congregation B'nai Tikvah":MAILTO:office@bnaitikvah.org
END:VEVENT
BEGIN:VEVENT
DTSTART;TZID=America/New_York:20260422T120000
DTEND;TZID=America/New_York:20260422T133000
DTSTAMP:20260424T173223
CREATED:20250911T194215Z
LAST-MODIFIED:20251103T183212Z
UID:10005877-1776859200-1776864600@bnaitikvah.org
SUMMARY:Lunch and Learn with Rabbi Wolkoff
DESCRIPTION:Join Rabbi Wolkoff for his weekly Lunch and Learn\, every Wednesday at 12pm (unless otherwise noted). Lunch begins promptly at 12pm\, followed by a lively discussion. This year’s topic is Book of Proverbs: Seeking Wisdom. \nPlease RSVP to the synagogue office.
URL:https://bnaitikvah.org/event/lunch-and-learn-with-rabbi-wolkoff-2/2026-04-22/
LOCATION:Congregation B’nai Tikvah\, 1001 Finnegans Lane\, North Brunswick\, NJ\, 08902\, United States
CATEGORIES:Adult Education
ATTACH;FMTTYPE=image/jpeg:https://bnaitikvah.org/wp-content/uploads/2021/02/lunch-and-learn.jpg
ORGANIZER;CN="Congregation B'nai Tikvah":MAILTO:office@bnaitikvah.org
END:VEVENT
BEGIN:VEVENT
DTSTART;TZID=America/New_York:20260421T193000
DTEND;TZID=America/New_York:20260421T194500
DTSTAMP:20260424T173223
CREATED:20250925T173714Z
LAST-MODIFIED:20250928T160058Z
UID:10006773-1776799800-1776800700@bnaitikvah.org
SUMMARY:Tuesday Evening Minyan
DESCRIPTION:Evening minyan is nightly at 7:30 and can be streamed via our zoom room with the appropriate password.
URL:https://bnaitikvah.org/event/tuesday-evening-minyan/2026-04-21/
LOCATION:Congregation B’nai Tikvah\, 1001 Finnegans Lane\, North Brunswick\, NJ\, 08902\, United States
CATEGORIES:Services
ORGANIZER;CN="Congregation B'nai Tikvah":MAILTO:office@bnaitikvah.org
END:VEVENT
BEGIN:VEVENT
DTSTART;TZID=America/New_York:20260421T190000
DTEND;TZID=America/New_York:20260421T190000
DTSTAMP:20260424T173223
CREATED:20260316T175302Z
LAST-MODIFIED:20260316T175302Z
UID:10007115-1776798000-1776798000@bnaitikvah.org
SUMMARY:Monroe Monthly Minyan
DESCRIPTION:Welcome to our monthly minyan in Monroe! This does NOT take the place of our weeknight minyan in the synagogue. But\, we recognize that\, for some\, it is a far drive to come to North Brunswick from Monroe\, so it is our hope that monthly minyan will help support and provide community and outreach to our Monroe members. \nServices will begin at 7pm\, and will take place at Jewish Family Services\, located at 1600 Perrineville Road\, Suite 26 (Stop & Shop Shopping Center). \nFor those of you concerned that it is not the exact date of a yahrzeit\, please come and say Kaddish in Monroe anyway\, and support others who are saying Kaddish! \nQuestions? Concerns? Suggestion/Comments? Contact Bobbi Binder\, via the synagogue office.
URL:https://bnaitikvah.org/event/monroe-monthly-minyan/
LOCATION:Congregation B’nai Tikvah\, 1001 Finnegans Lane\, North Brunswick\, NJ\, 08902\, United States
ATTACH;FMTTYPE=image/png:https://bnaitikvah.org/wp-content/uploads/2025/10/Monthly-Minyan-1-e1760039755799.png
ORGANIZER;CN="Congregation B'nai Tikvah":MAILTO:office@bnaitikvah.org
END:VEVENT
BEGIN:VEVENT
DTSTART;TZID=America/New_York:20260419T090000
DTEND;TZID=America/New_York:20260419T100000
DTSTAMP:20260424T173223
CREATED:20250925T174229Z
LAST-MODIFIED:20250925T174229Z
UID:10006852-1776589200-1776592800@bnaitikvah.org
SUMMARY:Sunday Morning Minyan
DESCRIPTION:Sunday morning minyan is at 9:00am and can be streamed via our zoom room with the appropriate password.
URL:https://bnaitikvah.org/event/sunday-morning-minyan/2026-04-19/
LOCATION:Congregation B’nai Tikvah\, 1001 Finnegans Lane\, North Brunswick\, NJ\, 08902\, United States
CATEGORIES:Services
ORGANIZER;CN="Congregation B'nai Tikvah":MAILTO:office@bnaitikvah.org
END:VEVENT
BEGIN:VEVENT
DTSTART;TZID=America/New_York:20260418T093000
DTEND;TZID=America/New_York:20260418T120000
DTSTAMP:20260424T173223
CREATED:20250928T161026Z
LAST-MODIFIED:20250928T161026Z
UID:10006972-1776504600-1776513600@bnaitikvah.org
SUMMARY:Shabbat Morning
DESCRIPTION:Shabbat morning is weekly at 9:30am and can be streamed via our zoom room with the appropriate password.
URL:https://bnaitikvah.org/event/shabbat-morning/2026-04-18/
LOCATION:Congregation B’nai Tikvah\, 1001 Finnegans Lane\, North Brunswick\, NJ\, 08902\, United States
CATEGORIES:Services
ORGANIZER;CN="Congregation B'nai Tikvah":MAILTO:office@bnaitikvah.org
END:VEVENT
BEGIN:VEVENT
DTSTART;TZID=America/New_York:20260417T190000
DTEND;TZID=America/New_York:20260417T203000
DTSTAMP:20260424T173223
CREATED:20250928T160849Z
LAST-MODIFIED:20250928T160849Z
UID:10006933-1776452400-1776457800@bnaitikvah.org
SUMMARY:Kabbalat Shabbat
DESCRIPTION:Kabbalat Shabbat is weekly at 7:00pm and can be streamed via our zoom room with the appropriate password.
URL:https://bnaitikvah.org/event/kabbalat-shabbat/2026-04-17/
LOCATION:Congregation B’nai Tikvah\, 1001 Finnegans Lane\, North Brunswick\, NJ\, 08902\, United States
CATEGORIES:Services
ORGANIZER;CN="Congregation B'nai Tikvah":MAILTO:office@bnaitikvah.org
END:VEVENT
BEGIN:VEVENT
DTSTART;TZID=America/New_York:20260417T190000
DTEND;TZID=America/New_York:20260417T190000
DTSTAMP:20260424T173223
CREATED:20260316T174751Z
LAST-MODIFIED:20260316T174751Z
UID:10007113-1776452400-1776452400@bnaitikvah.org
SUMMARY:Birthday Shabbat
DESCRIPTION:Join us for our Birthday Shabbat\, where we will celebrate all of our April birthdays\, with a special blessing and a birthday cake! Whether you have a birthday in April or not\, please join us for this special Kabbalat Shabbat. We’ll wish a very happy birthday to those that do\, and we’ll enjoy a full Oneg Shabbat after.
URL:https://bnaitikvah.org/event/birthday-shabbat-3/
LOCATION:Congregation B’nai Tikvah\, 1001 Finnegans Lane\, North Brunswick\, NJ\, 08902\, United States
ATTACH;FMTTYPE=image/png:https://bnaitikvah.org/wp-content/uploads/2025/09/Birthday_Shabbat-e1759159929129.png
ORGANIZER;CN="Congregation B'nai Tikvah":MAILTO:office@bnaitikvah.org
END:VEVENT
BEGIN:VEVENT
DTSTART;VALUE=DATE:20260416
DTEND;VALUE=DATE:20260420
DTSTAMP:20260424T173223
CREATED:20260330T183202Z
LAST-MODIFIED:20260406T122150Z
UID:10007120-1776297600-1776643199@bnaitikvah.org
SUMMARY:Rabbi Candidate Weekend
DESCRIPTION:We will be welcoming Rabbi Esther Reed to our congregation as a candidate for the position of Rabbi at our synagogue.  \nEvery member is encouraged to attend one or more of the opportunities to meet Rabbi Reed. Please RSVP using the form below. \nThursday\, April 16\, 2026 – no rsvp needed\n8am-9am minyan \nLight breakfast \nFriday\, April 17\, 2026\nServices 7pm \nOneg following services – RSVP NEEDED \nSaturday\, April 18\, 2026\nServices 9:30am \nLunch following services – RSVP NEEDED \nSunday\, April 19\, 2026\n9am-9:45am minyan \nLight breakfast – RSVP NEEDED \n10:30am-11:15am – members with children 18 and under Q&A \n11:15am-12:15 – Q&A for all members \nSince food needs to be ordered\, please RSVP to Friday\, Saturday and/or Sunday \nPlease RSVP below by Tuesday\, April 14\, 2026 so there is enough food for everyone! \nQuestions\, contact cbtrabbisearch@bnaitikvah.org \nName *Email *How many people will be attending Friday Night ServicesEnter how many people will be attending Friday evening servicesHow many people will be joining us for lunch after Shabbat morning services?Please enter the number of people in your party joining us for Shabbat lunchHow many people will be joining us for Sunday morning breakfastPlease enter the number of people in your party joining us for Sunday breakfast?SubmitThank you for your message. It has been sent.×There was an error trying to send your message. Please try again later.×
URL:https://bnaitikvah.org/event/rabbi-candidate-weekend/
LOCATION:Congregation B’nai Tikvah\, 1001 Finnegans Lane\, North Brunswick\, NJ\, 08902\, United States
CATEGORIES:Social
ATTACH;FMTTYPE=image/png:https://bnaitikvah.org/wp-content/uploads/2026/03/Meet-Rabbi-Reed-scaled-e1774895489195.png
ORGANIZER;CN="Congregation B'nai Tikvah":MAILTO:office@bnaitikvah.org
END:VEVENT
BEGIN:VEVENT
DTSTART;TZID=America/New_York:20260412T130000
DTEND;TZID=America/New_York:20260412T130000
DTSTAMP:20260424T173223
CREATED:20260118T201436Z
LAST-MODIFIED:20260213T190828Z
UID:10007078-1775998800-1775998800@bnaitikvah.org
SUMMARY:Post-Pesach Pub Crawl
DESCRIPTION:We will meet at the Fat Cactus Cantina at 1pm. We will spend about 45 minutes at each bar\, and then move on to the next one. \nApproximate Schedule: \n\n1:00pm – Fat Cactus Cantina\n1:45pm – Tavern on George\n2:30pm – George Street Alehouse\n3:15pm – Destination Dogs\n\nNotes: \n\nNo transportation is being offered by CBT\, and designated driver or ride services are strongly encouraged/recommended.\nParticipants are responsible for their own purchases.\nSigned waivers will be required for this event.\n\nLet us know you are coming (or questions): WAM@bnaitikvah.org \n*Please note the date change.
URL:https://bnaitikvah.org/event/purim-pub-crawl/
LOCATION:Congregation B’nai Tikvah\, 1001 Finnegans Lane\, North Brunswick\, NJ\, 08902\, United States
ATTACH;FMTTYPE=image/png:https://bnaitikvah.org/wp-content/uploads/2026/01/BANNER-Pesach-not-Purim-Pub-Crawl-26-e1771009679825.png
ORGANIZER;CN="Congregation B'nai Tikvah":MAILTO:office@bnaitikvah.org
END:VEVENT
BEGIN:VEVENT
DTSTART;TZID=America/New_York:20260412T110000
DTEND;TZID=America/New_York:20260412T110000
DTSTAMP:20260424T173223
CREATED:20260316T200352Z
LAST-MODIFIED:20260407T150708Z
UID:10007116-1775991600-1775991600@bnaitikvah.org
SUMMARY:Magen David Adom Ambulance Dedication
DESCRIPTION:We are honored and privileged to host the dedication of a new Magen David Adom ambulance at CBT on Sunday\, April 12 at 11:00 AM. \nOur members\, Lou and Audrey Flumen\, together with Audrey’s sister and brother-in-law\, Bobbi and Barry Freedman of Princeton\, have generously dedicated this ambulance in loving memory of their family members. \nThis will be an incredibly meaningful and special event. We warmly encourage our community to join us as we celebrate this dedication and honor the memories of those for whom it was made possible. \nFor those who may not be familiar with what Magen David Adom is all about: \nWhen a medical emergency strikes\, there is one organization Israelis rely on to save lives — Magen David Adom. \nIn the United States\, disaster response\, ambulance services\, and blood collection are handled by a variety of hospitals and organizations. In Israel\, however\, one organization fulfills all of these roles: Magen David Adom. \nThe workhorses of the MDA fleet are Life Support Ambulances\, equipped to treat emergencies ranging from broken bones to heart attacks. \nBuilt on GM chassis and assembled in Elkhart\, Indiana\, these ambulances are urgently needed each year to expand the fleet and replace vehicles that have been retired from service. \nBecause of its Knesset-mandated role as Israel’s national emergency medical service\, Magen David Adom is the only organization — aside from the IDF — that is exempt from paying VAT on the importation of ambulances. \nWe hope you will join us on April 12 at 11:00 AM for this very special and meaningful occasion.
URL:https://bnaitikvah.org/event/magen-david-odam-ambulance-dedication/
LOCATION:Congregation B’nai Tikvah\, 1001 Finnegans Lane\, North Brunswick\, NJ\, 08902\, United States
ATTACH;FMTTYPE=image/jpeg:https://bnaitikvah.org/wp-content/uploads/2026/03/AFMDA-Armored-Ambulance-Braman-scaled-1-e1773691379737.jpg
ORGANIZER;CN="Congregation B'nai Tikvah":MAILTO:office@bnaitikvah.org
END:VEVENT
BEGIN:VEVENT
DTSTART;TZID=America/New_York:20260411T120000
DTEND;TZID=America/New_York:20260411T120000
DTSTAMP:20260424T173223
CREATED:20260316T174240Z
LAST-MODIFIED:20260316T174240Z
UID:10007111-1775908800-1775908800@bnaitikvah.org
SUMMARY:Shabbat Lunch & Learn
DESCRIPTION:Join Rabbi Wolkoff for a lively discussion over Kiddush Lunch.
URL:https://bnaitikvah.org/event/shabbat-lunch-learn/
LOCATION:Congregation B’nai Tikvah\, 1001 Finnegans Lane\, North Brunswick\, NJ\, 08902\, United States
ATTACH;FMTTYPE=image/png:https://bnaitikvah.org/wp-content/uploads/2017/09/Lunch-and-Learn.png
ORGANIZER;CN="Congregation B'nai Tikvah":MAILTO:office@bnaitikvah.org
END:VEVENT
BEGIN:VEVENT
DTSTART;TZID=America/New_York:20260406T193000
DTEND;TZID=America/New_York:20260406T213000
DTSTAMP:20260424T173223
CREATED:20251006T183215Z
LAST-MODIFIED:20251203T211240Z
UID:10006995-1775503800-1775511000@bnaitikvah.org
SUMMARY:Synagogue Board Meeting
DESCRIPTION:Synagogue board meetings are open to the membership\, except for closed sessions.
URL:https://bnaitikvah.org/event/synagogue-board-meeting-2/2026-04-06/
LOCATION:Congregation B’nai Tikvah\, 1001 Finnegans Lane\, North Brunswick\, NJ\, 08902\, United States
CATEGORIES:Governance
ATTACH;FMTTYPE=image/jpeg:https://bnaitikvah.org/wp-content/uploads/2024/06/boardmeetings-e1764796349176.jpg
ORGANIZER;CN="Congregation B'nai Tikvah":MAILTO:office@bnaitikvah.org
END:VEVENT
BEGIN:VEVENT
DTSTART;TZID=America/New_York:20260402T190000
DTEND;TZID=America/New_York:20260402T190000
DTSTAMP:20260424T173223
CREATED:20260305T160326Z
LAST-MODIFIED:20260305T192725Z
UID:10007107-1775156400-1775156400@bnaitikvah.org
SUMMARY:CBT's 2nd Seder
DESCRIPTION:Join our Family’s Second Seder at B’nai Tikvah. catered by Classical Caterers. \nJoin friends and family for a complete and insightful Seder. Enjoy a delicious kosher for Passoer dinner\, from matzoh ball soup to 7-layer cake! \nCost:\n$72/adult\n$54/for any child who eats \nWe are thankful for a generous donation that allows us to offer these greatly subsidized prices. \nIf you’d like to sponsor the 2nd seder\, please reach out directly to Cantor Rockman. \nRSVP by Tuesday\, March 24th.\n×RSVP and pay by PayPal\n    Name*FirstLast    Email*    Number of Member Adults (13 and over - $72)Select123456    Number of Kids (3- 12 $54)Select 123456    Number of Kids (under 3\, free)    Number of Vegetarian Meals NeededPlease consider becoming a sponsor for our 2nd Seder. If you are interested\, contact Cantor Rockman.  Thank you.     TotalSubmitReset\nClose×RSVP and pay by Check\n    Name*FirstLast    Email*    Number of Member Adults (13 and over - $72)Select123456    Number of Kids (3-12\, $54)Select 123456    Number of Kids (under 3\, free)    Number of Vegetarian Meals NeededPlease consider becoming a sponsor of our 2nd Seder. For details\, please contact Cantor Rockman.     TotalMail your check in the above amount to:Congregation B'nai Tikvah1001 Finnegans LaneNorth Brunswick NJ 08902 Please note: 2nd Seder in the memo line SubmitReset\nCloseRSVP and Pay by CheckRSVP and Pay with Credit Card
URL:https://bnaitikvah.org/event/cbts-2nd-seder/
LOCATION:Congregation B’nai Tikvah\, 1001 Finnegans Lane\, North Brunswick\, NJ\, 08902\, United States
ATTACH;FMTTYPE=image/jpeg:https://bnaitikvah.org/wp-content/uploads/2025/03/Passover-2025-Second-Seder-e1742571593232.jpg
ORGANIZER;CN="Congregation B'nai Tikvah":MAILTO:office@bnaitikvah.org
END:VEVENT
BEGIN:VEVENT
DTSTART;TZID=America/New_York:20260330T193000
DTEND;TZID=America/New_York:20260330T193000
DTSTAMP:20260424T173223
CREATED:20260330T164229Z
LAST-MODIFIED:20260330T164229Z
UID:10007118-1774899000-1774899000@bnaitikvah.org
SUMMARY:Yom HaShoah 5786
DESCRIPTION:By now\, you should have received your yellow candles\, along with the meditation\, thanks to our Men’s Club\, and delivery from Sisterhood. \nPlease light your candles on Monday evening\, April 13. The candle is lit in memory of the victims of the Holocaust. \nOn Tuesday\, April 14\, we will hold our annual reading/witnessing of the names of the victims of the Shoah. \nOn the evening of April 14\, beginning at 7:30pm\, we will have our evening service and special kaddish\, commemorating all the martyrs of our people. \nYom Hashoah – Reading/Witnessing of the Names of Victims of the Shoah \nTuesday April 14\, 10:00am-7:30pm \nVolunteers are needed to come to CBT\, both to read and to sit and be a witness to those reading\, to the names of our brethren who were murdered. \nThere are half hour time slots\, from 10am-7:30pm. \nYou can sign up for one or more of those time slots. \nPlease email or call the office to register: \n732-297-0696 \nOffice@bnaitikvah.org
URL:https://bnaitikvah.org/event/yom-hashoah-5786/
LOCATION:Congregation B’nai Tikvah\, 1001 Finnegans Lane\, North Brunswick\, NJ\, 08902\, United States
ATTACH;FMTTYPE=image/jpeg:https://bnaitikvah.org/wp-content/uploads/2016/04/Yom_Hashoah_candle-e1774888943993.jpg
ORGANIZER;CN="Congregation B'nai Tikvah":MAILTO:office@bnaitikvah.org
END:VEVENT
BEGIN:VEVENT
DTSTART;TZID=America/New_York:20260327T180000
DTEND;TZID=America/New_York:20260327T180000
DTSTAMP:20260424T173223
CREATED:20260105T185044Z
LAST-MODIFIED:20260304T160911Z
UID:10007075-1774634400-1774634400@bnaitikvah.org
SUMMARY:Shabbat Dinner - Chametzfest
DESCRIPTION:ChametzFest! Chametzfest\nMarch 27\, 2026 \n\nIt’s CBT’s 4th Annual Chametzfest!\nPlease note new schedule:\n6:00PM – Kabbalat Shabbat Service*\n6:00PM – Family Shabbat Service*\n7:00PM – Shabbat Dinner\n*Both Family Shabbat & Kabbalat Shabbat will begin at the same time.\nWhen Family Shabbat is through\, the children will be brought into\nthe Sanctuary\, where Rabbi Wolkoff will tell a story\,\nand invite the children to open the ark\nand help lead some prayers.\nRSVP Below!\n\nSave the Date!\nMay 1\, 2026\nShabbat DeMayo!\n×RSVP and Pay with PayPal    Name*FirstLast    Email*    Number of Member Adults (Over 13 - $20)Select123456    Number of Non-Member Adults (Over 13 - $25)Select123456    Number of Kids (3-13\, $10)Select 123456    Number of Kids (under 3\, free)    Number of Vegetarian Meals NeededPlease consider joining our group of Shabbat Dinner Sponsors. Our widely popular multi-generational Shabbat dinner series re-energized our community this past year. Help us to grow this core program\, allowing it thrive to for years to come.     Sponsorhips:$72 - Shabbat Shalom$180 - Shabbat Blessings (includes 2 meals)$360 - Sabbath Queen (includes 4 meals    Help allow a child to experience shabbat!$10 - Sponsor A Child for Shabbat Dinner    TotalThe item listed above as tax is the 3% credit card fee.SubmitResetClose×RSVP and Pay with Check\n    Name*FirstLast    Email*    Number of Member Adults (Over 13 - $20)Select123456    Number of Non-Member Adults (Over 13 - $25)Select123456    Number of Kids (3-13\, $10)Select 123456    Number of Kids (under 3\, free)    Number of Vegetarian Meals NeededPlease consider joining our group of Shabbat Dinner Sponsors. Our widely popular multi-generational Shabbat dinner series re-energized our community this past year. Help us to grow this core program\, allowing it thrive to for years to come.     Sponsorships:$72 - Shabbat Shalom$180 - Shabbat Blessings (includes 2 meals)$360 - Sabbath Queen (includes 4 meals    Help allow a child to experience shabbat!$10 - Sponsor A Child for Shabbat DinnerDon’t miss out on the chance to win a FREE adult Shabbat dinner by participating in our raffle! One winner will be pulled each month!    Total    RaffleRaffle ($5)Mail your check in the above amount to Shabbat DinnerCongregation B'nai Tikvah1001 Finnegans LaneNorth Brunswick NJ 08902 SubmitReset\nCloseRSVP and Pay with Credit CardRSVP and Pay by Check
URL:https://bnaitikvah.org/event/shabbat-dinner-breakfast-for-dinner-pajama-shabbat/
LOCATION:Congregation B’nai Tikvah\, 1001 Finnegans Lane\, North Brunswick\, NJ\, 08902\, United States
CATEGORIES:Social
ATTACH;FMTTYPE=image/jpeg:https://bnaitikvah.org/wp-content/uploads/2026/01/Chametzfest-mar-20-1-e1772640501382.jpg
ORGANIZER;CN="WAM":MAILTO:wam@bnaitikvah.org
END:VEVENT
END:VCALENDAR