BEGIN:VCALENDAR
VERSION:2.0
PRODID:-//Congregation B&#039;nai Tikvah - ECPv6.15.20//NONSGML v1.0//EN
CALSCALE:GREGORIAN
METHOD:PUBLISH
X-WR-CALNAME:Congregation B&#039;nai Tikvah
X-ORIGINAL-URL:https://bnaitikvah.org
X-WR-CALDESC:Events for Congregation B&#039;nai Tikvah
REFRESH-INTERVAL;VALUE=DURATION:PT1H
X-Robots-Tag:noindex
X-PUBLISHED-TTL:PT1H
BEGIN:VTIMEZONE
TZID:America/New_York
BEGIN:DAYLIGHT
TZOFFSETFROM:-0500
TZOFFSETTO:-0400
TZNAME:EDT
DTSTART:20250309T070000
END:DAYLIGHT
BEGIN:STANDARD
TZOFFSETFROM:-0400
TZOFFSETTO:-0500
TZNAME:EST
DTSTART:20251102T060000
END:STANDARD
BEGIN:DAYLIGHT
TZOFFSETFROM:-0500
TZOFFSETTO:-0400
TZNAME:EDT
DTSTART:20260308T070000
END:DAYLIGHT
BEGIN:STANDARD
TZOFFSETFROM:-0400
TZOFFSETTO:-0500
TZNAME:EST
DTSTART:20261101T060000
END:STANDARD
BEGIN:DAYLIGHT
TZOFFSETFROM:-0500
TZOFFSETTO:-0400
TZNAME:EDT
DTSTART:20270314T070000
END:DAYLIGHT
BEGIN:STANDARD
TZOFFSETFROM:-0400
TZOFFSETTO:-0500
TZNAME:EST
DTSTART:20271107T060000
END:STANDARD
END:VTIMEZONE
BEGIN:VEVENT
DTSTART;TZID=America/New_York:20260427T193000
DTEND;TZID=America/New_York:20260427T194500
DTSTAMP:20260424T173110
CREATED:20250925T173534Z
LAST-MODIFIED:20250925T173606Z
UID:10006694-1777318200-1777319100@bnaitikvah.org
SUMMARY:Monday Evening Minyan
DESCRIPTION:Evening minyan is nightly at 7:30 and can be streamed via our zoom room with the appropriate password.
URL:https://bnaitikvah.org/event/monday-evening-minyan/2026-04-27/
LOCATION:Congregation B’nai Tikvah\, 1001 Finnegans Lane\, North Brunswick\, NJ\, 08902\, United States
CATEGORIES:Services
ORGANIZER;CN="Congregation B'nai Tikvah":MAILTO:office@bnaitikvah.org
END:VEVENT
BEGIN:VEVENT
DTSTART;TZID=America/New_York:20260428T193000
DTEND;TZID=America/New_York:20260428T194500
DTSTAMP:20260424T173110
CREATED:20250925T173714Z
LAST-MODIFIED:20250928T160058Z
UID:10006774-1777404600-1777405500@bnaitikvah.org
SUMMARY:Tuesday Evening Minyan
DESCRIPTION:Evening minyan is nightly at 7:30 and can be streamed via our zoom room with the appropriate password.
URL:https://bnaitikvah.org/event/tuesday-evening-minyan/2026-04-28/
LOCATION:Congregation B’nai Tikvah\, 1001 Finnegans Lane\, North Brunswick\, NJ\, 08902\, United States
CATEGORIES:Services
ORGANIZER;CN="Congregation B'nai Tikvah":MAILTO:office@bnaitikvah.org
END:VEVENT
BEGIN:VEVENT
DTSTART;TZID=America/New_York:20260504T193000
DTEND;TZID=America/New_York:20260504T194500
DTSTAMP:20260424T173110
CREATED:20250925T173534Z
LAST-MODIFIED:20250925T173606Z
UID:10006695-1777923000-1777923900@bnaitikvah.org
SUMMARY:Monday Evening Minyan
DESCRIPTION:Evening minyan is nightly at 7:30 and can be streamed via our zoom room with the appropriate password.
URL:https://bnaitikvah.org/event/monday-evening-minyan/2026-05-04/
LOCATION:Congregation B’nai Tikvah\, 1001 Finnegans Lane\, North Brunswick\, NJ\, 08902\, United States
CATEGORIES:Services
ORGANIZER;CN="Congregation B'nai Tikvah":MAILTO:office@bnaitikvah.org
END:VEVENT
BEGIN:VEVENT
DTSTART;TZID=America/New_York:20260505T193000
DTEND;TZID=America/New_York:20260505T194500
DTSTAMP:20260424T173110
CREATED:20250925T173714Z
LAST-MODIFIED:20250928T160058Z
UID:10006775-1778009400-1778010300@bnaitikvah.org
SUMMARY:Tuesday Evening Minyan
DESCRIPTION:Evening minyan is nightly at 7:30 and can be streamed via our zoom room with the appropriate password.
URL:https://bnaitikvah.org/event/tuesday-evening-minyan/2026-05-05/
LOCATION:Congregation B’nai Tikvah\, 1001 Finnegans Lane\, North Brunswick\, NJ\, 08902\, United States
CATEGORIES:Services
ORGANIZER;CN="Congregation B'nai Tikvah":MAILTO:office@bnaitikvah.org
END:VEVENT
BEGIN:VEVENT
DTSTART;TZID=America/New_York:20260511T193000
DTEND;TZID=America/New_York:20260511T194500
DTSTAMP:20260424T173110
CREATED:20250925T173534Z
LAST-MODIFIED:20250925T173606Z
UID:10006696-1778527800-1778528700@bnaitikvah.org
SUMMARY:Monday Evening Minyan
DESCRIPTION:Evening minyan is nightly at 7:30 and can be streamed via our zoom room with the appropriate password.
URL:https://bnaitikvah.org/event/monday-evening-minyan/2026-05-11/
LOCATION:Congregation B’nai Tikvah\, 1001 Finnegans Lane\, North Brunswick\, NJ\, 08902\, United States
CATEGORIES:Services
ORGANIZER;CN="Congregation B'nai Tikvah":MAILTO:office@bnaitikvah.org
END:VEVENT
BEGIN:VEVENT
DTSTART;TZID=America/New_York:20260512T193000
DTEND;TZID=America/New_York:20260512T194500
DTSTAMP:20260424T173110
CREATED:20250925T173714Z
LAST-MODIFIED:20250928T160058Z
UID:10006776-1778614200-1778615100@bnaitikvah.org
SUMMARY:Tuesday Evening Minyan
DESCRIPTION:Evening minyan is nightly at 7:30 and can be streamed via our zoom room with the appropriate password.
URL:https://bnaitikvah.org/event/tuesday-evening-minyan/2026-05-12/
LOCATION:Congregation B’nai Tikvah\, 1001 Finnegans Lane\, North Brunswick\, NJ\, 08902\, United States
CATEGORIES:Services
ORGANIZER;CN="Congregation B'nai Tikvah":MAILTO:office@bnaitikvah.org
END:VEVENT
BEGIN:VEVENT
DTSTART;TZID=America/New_York:20260518T193000
DTEND;TZID=America/New_York:20260518T194500
DTSTAMP:20260424T173110
CREATED:20250925T173534Z
LAST-MODIFIED:20250925T173606Z
UID:10006697-1779132600-1779133500@bnaitikvah.org
SUMMARY:Monday Evening Minyan
DESCRIPTION:Evening minyan is nightly at 7:30 and can be streamed via our zoom room with the appropriate password.
URL:https://bnaitikvah.org/event/monday-evening-minyan/2026-05-18/
LOCATION:Congregation B’nai Tikvah\, 1001 Finnegans Lane\, North Brunswick\, NJ\, 08902\, United States
CATEGORIES:Services
ORGANIZER;CN="Congregation B'nai Tikvah":MAILTO:office@bnaitikvah.org
END:VEVENT
BEGIN:VEVENT
DTSTART;TZID=America/New_York:20260519T193000
DTEND;TZID=America/New_York:20260519T194500
DTSTAMP:20260424T173110
CREATED:20250925T173714Z
LAST-MODIFIED:20250928T160058Z
UID:10006777-1779219000-1779219900@bnaitikvah.org
SUMMARY:Tuesday Evening Minyan
DESCRIPTION:Evening minyan is nightly at 7:30 and can be streamed via our zoom room with the appropriate password.
URL:https://bnaitikvah.org/event/tuesday-evening-minyan/2026-05-19/
LOCATION:Congregation B’nai Tikvah\, 1001 Finnegans Lane\, North Brunswick\, NJ\, 08902\, United States
CATEGORIES:Services
ORGANIZER;CN="Congregation B'nai Tikvah":MAILTO:office@bnaitikvah.org
END:VEVENT
BEGIN:VEVENT
DTSTART;TZID=America/New_York:20260525T193000
DTEND;TZID=America/New_York:20260525T194500
DTSTAMP:20260424T173110
CREATED:20250925T173534Z
LAST-MODIFIED:20250925T173606Z
UID:10006698-1779737400-1779738300@bnaitikvah.org
SUMMARY:Monday Evening Minyan
DESCRIPTION:Evening minyan is nightly at 7:30 and can be streamed via our zoom room with the appropriate password.
URL:https://bnaitikvah.org/event/monday-evening-minyan/2026-05-25/
LOCATION:Congregation B’nai Tikvah\, 1001 Finnegans Lane\, North Brunswick\, NJ\, 08902\, United States
CATEGORIES:Services
ORGANIZER;CN="Congregation B'nai Tikvah":MAILTO:office@bnaitikvah.org
END:VEVENT
BEGIN:VEVENT
DTSTART;TZID=America/New_York:20260526T193000
DTEND;TZID=America/New_York:20260526T194500
DTSTAMP:20260424T173110
CREATED:20250925T173714Z
LAST-MODIFIED:20250928T160058Z
UID:10006778-1779823800-1779824700@bnaitikvah.org
SUMMARY:Tuesday Evening Minyan
DESCRIPTION:Evening minyan is nightly at 7:30 and can be streamed via our zoom room with the appropriate password.
URL:https://bnaitikvah.org/event/tuesday-evening-minyan/2026-05-26/
LOCATION:Congregation B’nai Tikvah\, 1001 Finnegans Lane\, North Brunswick\, NJ\, 08902\, United States
CATEGORIES:Services
ORGANIZER;CN="Congregation B'nai Tikvah":MAILTO:office@bnaitikvah.org
END:VEVENT
BEGIN:VEVENT
DTSTART;TZID=America/New_York:20260601T193000
DTEND;TZID=America/New_York:20260601T194500
DTSTAMP:20260424T173110
CREATED:20250925T173534Z
LAST-MODIFIED:20250925T173606Z
UID:10006699-1780342200-1780343100@bnaitikvah.org
SUMMARY:Monday Evening Minyan
DESCRIPTION:Evening minyan is nightly at 7:30 and can be streamed via our zoom room with the appropriate password.
URL:https://bnaitikvah.org/event/monday-evening-minyan/2026-06-01/
LOCATION:Congregation B’nai Tikvah\, 1001 Finnegans Lane\, North Brunswick\, NJ\, 08902\, United States
CATEGORIES:Services
ORGANIZER;CN="Congregation B'nai Tikvah":MAILTO:office@bnaitikvah.org
END:VEVENT
BEGIN:VEVENT
DTSTART;TZID=America/New_York:20260602T193000
DTEND;TZID=America/New_York:20260602T194500
DTSTAMP:20260424T173110
CREATED:20250925T173714Z
LAST-MODIFIED:20250928T160058Z
UID:10006779-1780428600-1780429500@bnaitikvah.org
SUMMARY:Tuesday Evening Minyan
DESCRIPTION:Evening minyan is nightly at 7:30 and can be streamed via our zoom room with the appropriate password.
URL:https://bnaitikvah.org/event/tuesday-evening-minyan/2026-06-02/
LOCATION:Congregation B’nai Tikvah\, 1001 Finnegans Lane\, North Brunswick\, NJ\, 08902\, United States
CATEGORIES:Services
ORGANIZER;CN="Congregation B'nai Tikvah":MAILTO:office@bnaitikvah.org
END:VEVENT
BEGIN:VEVENT
DTSTART;TZID=America/New_York:20260608T193000
DTEND;TZID=America/New_York:20260608T194500
DTSTAMP:20260424T173110
CREATED:20250925T173534Z
LAST-MODIFIED:20250925T173606Z
UID:10006700-1780947000-1780947900@bnaitikvah.org
SUMMARY:Monday Evening Minyan
DESCRIPTION:Evening minyan is nightly at 7:30 and can be streamed via our zoom room with the appropriate password.
URL:https://bnaitikvah.org/event/monday-evening-minyan/2026-06-08/
LOCATION:Congregation B’nai Tikvah\, 1001 Finnegans Lane\, North Brunswick\, NJ\, 08902\, United States
CATEGORIES:Services
ORGANIZER;CN="Congregation B'nai Tikvah":MAILTO:office@bnaitikvah.org
END:VEVENT
BEGIN:VEVENT
DTSTART;TZID=America/New_York:20260609T193000
DTEND;TZID=America/New_York:20260609T194500
DTSTAMP:20260424T173110
CREATED:20250925T173714Z
LAST-MODIFIED:20250928T160058Z
UID:10006780-1781033400-1781034300@bnaitikvah.org
SUMMARY:Tuesday Evening Minyan
DESCRIPTION:Evening minyan is nightly at 7:30 and can be streamed via our zoom room with the appropriate password.
URL:https://bnaitikvah.org/event/tuesday-evening-minyan/2026-06-09/
LOCATION:Congregation B’nai Tikvah\, 1001 Finnegans Lane\, North Brunswick\, NJ\, 08902\, United States
CATEGORIES:Services
ORGANIZER;CN="Congregation B'nai Tikvah":MAILTO:office@bnaitikvah.org
END:VEVENT
BEGIN:VEVENT
DTSTART;TZID=America/New_York:20260615T193000
DTEND;TZID=America/New_York:20260615T194500
DTSTAMP:20260424T173110
CREATED:20250925T173534Z
LAST-MODIFIED:20250925T173606Z
UID:10006701-1781551800-1781552700@bnaitikvah.org
SUMMARY:Monday Evening Minyan
DESCRIPTION:Evening minyan is nightly at 7:30 and can be streamed via our zoom room with the appropriate password.
URL:https://bnaitikvah.org/event/monday-evening-minyan/2026-06-15/
LOCATION:Congregation B’nai Tikvah\, 1001 Finnegans Lane\, North Brunswick\, NJ\, 08902\, United States
CATEGORIES:Services
ORGANIZER;CN="Congregation B'nai Tikvah":MAILTO:office@bnaitikvah.org
END:VEVENT
BEGIN:VEVENT
DTSTART;TZID=America/New_York:20260616T193000
DTEND;TZID=America/New_York:20260616T194500
DTSTAMP:20260424T173110
CREATED:20250925T173714Z
LAST-MODIFIED:20250928T160058Z
UID:10006781-1781638200-1781639100@bnaitikvah.org
SUMMARY:Tuesday Evening Minyan
DESCRIPTION:Evening minyan is nightly at 7:30 and can be streamed via our zoom room with the appropriate password.
URL:https://bnaitikvah.org/event/tuesday-evening-minyan/2026-06-16/
LOCATION:Congregation B’nai Tikvah\, 1001 Finnegans Lane\, North Brunswick\, NJ\, 08902\, United States
CATEGORIES:Services
ORGANIZER;CN="Congregation B'nai Tikvah":MAILTO:office@bnaitikvah.org
END:VEVENT
BEGIN:VEVENT
DTSTART;TZID=America/New_York:20260622T193000
DTEND;TZID=America/New_York:20260622T194500
DTSTAMP:20260424T173110
CREATED:20250925T173534Z
LAST-MODIFIED:20250925T173606Z
UID:10006702-1782156600-1782157500@bnaitikvah.org
SUMMARY:Monday Evening Minyan
DESCRIPTION:Evening minyan is nightly at 7:30 and can be streamed via our zoom room with the appropriate password.
URL:https://bnaitikvah.org/event/monday-evening-minyan/2026-06-22/
LOCATION:Congregation B’nai Tikvah\, 1001 Finnegans Lane\, North Brunswick\, NJ\, 08902\, United States
CATEGORIES:Services
ORGANIZER;CN="Congregation B'nai Tikvah":MAILTO:office@bnaitikvah.org
END:VEVENT
BEGIN:VEVENT
DTSTART;TZID=America/New_York:20260623T193000
DTEND;TZID=America/New_York:20260623T194500
DTSTAMP:20260424T173110
CREATED:20250925T173714Z
LAST-MODIFIED:20250928T160058Z
UID:10006782-1782243000-1782243900@bnaitikvah.org
SUMMARY:Tuesday Evening Minyan
DESCRIPTION:Evening minyan is nightly at 7:30 and can be streamed via our zoom room with the appropriate password.
URL:https://bnaitikvah.org/event/tuesday-evening-minyan/2026-06-23/
LOCATION:Congregation B’nai Tikvah\, 1001 Finnegans Lane\, North Brunswick\, NJ\, 08902\, United States
CATEGORIES:Services
ORGANIZER;CN="Congregation B'nai Tikvah":MAILTO:office@bnaitikvah.org
END:VEVENT
BEGIN:VEVENT
DTSTART;TZID=America/New_York:20260629T193000
DTEND;TZID=America/New_York:20260629T194500
DTSTAMP:20260424T173110
CREATED:20250925T173534Z
LAST-MODIFIED:20250925T173606Z
UID:10006703-1782761400-1782762300@bnaitikvah.org
SUMMARY:Monday Evening Minyan
DESCRIPTION:Evening minyan is nightly at 7:30 and can be streamed via our zoom room with the appropriate password.
URL:https://bnaitikvah.org/event/monday-evening-minyan/2026-06-29/
LOCATION:Congregation B’nai Tikvah\, 1001 Finnegans Lane\, North Brunswick\, NJ\, 08902\, United States
CATEGORIES:Services
ORGANIZER;CN="Congregation B'nai Tikvah":MAILTO:office@bnaitikvah.org
END:VEVENT
BEGIN:VEVENT
DTSTART;TZID=America/New_York:20260630T193000
DTEND;TZID=America/New_York:20260630T194500
DTSTAMP:20260424T173110
CREATED:20250925T173714Z
LAST-MODIFIED:20250928T160058Z
UID:10006783-1782847800-1782848700@bnaitikvah.org
SUMMARY:Tuesday Evening Minyan
DESCRIPTION:Evening minyan is nightly at 7:30 and can be streamed via our zoom room with the appropriate password.
URL:https://bnaitikvah.org/event/tuesday-evening-minyan/2026-06-30/
LOCATION:Congregation B’nai Tikvah\, 1001 Finnegans Lane\, North Brunswick\, NJ\, 08902\, United States
CATEGORIES:Services
ORGANIZER;CN="Congregation B'nai Tikvah":MAILTO:office@bnaitikvah.org
END:VEVENT
END:VCALENDAR