BEGIN:VCALENDAR
VERSION:2.0
PRODID:-//Congregation B&#039;nai Tikvah - ECPv6.15.20//NONSGML v1.0//EN
CALSCALE:GREGORIAN
METHOD:PUBLISH
X-WR-CALNAME:Congregation B&#039;nai Tikvah
X-ORIGINAL-URL:https://bnaitikvah.org
X-WR-CALDESC:Events for Congregation B&#039;nai Tikvah
REFRESH-INTERVAL;VALUE=DURATION:PT1H
X-Robots-Tag:noindex
X-PUBLISHED-TTL:PT1H
BEGIN:VTIMEZONE
TZID:America/New_York
BEGIN:DAYLIGHT
TZOFFSETFROM:-0500
TZOFFSETTO:-0400
TZNAME:EDT
DTSTART:20250309T070000
END:DAYLIGHT
BEGIN:STANDARD
TZOFFSETFROM:-0400
TZOFFSETTO:-0500
TZNAME:EST
DTSTART:20251102T060000
END:STANDARD
BEGIN:DAYLIGHT
TZOFFSETFROM:-0500
TZOFFSETTO:-0400
TZNAME:EDT
DTSTART:20260308T070000
END:DAYLIGHT
BEGIN:STANDARD
TZOFFSETFROM:-0400
TZOFFSETTO:-0500
TZNAME:EST
DTSTART:20261101T060000
END:STANDARD
BEGIN:DAYLIGHT
TZOFFSETFROM:-0500
TZOFFSETTO:-0400
TZNAME:EDT
DTSTART:20270314T070000
END:DAYLIGHT
BEGIN:STANDARD
TZOFFSETFROM:-0400
TZOFFSETTO:-0500
TZNAME:EST
DTSTART:20271107T060000
END:STANDARD
END:VTIMEZONE
BEGIN:VEVENT
DTSTART;TZID=America/New_York:20260310T080000
DTEND;TZID=America/New_York:20260601T080000
DTSTAMP:20260425T121043
CREATED:20260310T190501Z
LAST-MODIFIED:20260311T130333Z
UID:10007110-1773129600-1780300800@bnaitikvah.org
SUMMARY:Calendar Fundraiser
DESCRIPTION:Calendar Fundraiser 2026-2027 \n  \n\n\n\n\n\n\n\n\n\nAre you celebrating a Birthday or Anniversary sometime between September 2026 and August 2027? Do you want to honor the yahrzeit of a loved one? Do you have a business you’d like to advertise\, while at the same time\, support CBT? \nThe B’nai Tikvah Calendar/Planner is just another way for us to keep our community together\, and to share events and happenings related to our CBT family.\nThe Calendar/Planner is an important synagogue fundraiser which is delivered free of charge to every congregational family in September. \nA few things to remember: \n\nAll orders must be submitted online. We cannot accept forms in the mail\, or via email. If you cannot submit your form online\, please reach out to us in the office.\nIf you are submitting a business card ad\, please upload a JPEG or PNG. Do not submit a PDF.\nMethods of payment are as follows:\n– Mail a check to: CBT\, 1001 Finnegans Lane\, North Brunswick\, NJ 08902\n– Zelle by emailing: Lesley@bnaitikvah.org (please note in the notes section “Calendar Fundraiser”)\n– CC payment by calling the CBT office and providing your credit card info (3% cc fees will be applied)\n\nWe cannot use the same information as a previous year. You MUST fill out a new form online. \nYou can complete the form below and mail your payment to: \nThe form must be received by June 1. NO EXCEPTIONS. \n\n\n\n\n\n\n\n\n\n  \n\n\nCalendar Fundraiser 2026-2027
URL:https://bnaitikvah.org/event/calendar-fundraiser/
LOCATION:Congregation B’nai Tikvah\, 1001 Finnegans Lane\, North Brunswick\, NJ\, 08902\, United States
CATEGORIES:Repeat_Events
ATTACH;FMTTYPE=image/png:https://bnaitikvah.org/wp-content/uploads/2026/03/CalendarCover-1-e1773169454635.png
ORGANIZER;CN="Congregation B'nai Tikvah":MAILTO:office@bnaitikvah.org
END:VEVENT
BEGIN:VEVENT
DTSTART;TZID=America/New_York:20260513T120000
DTEND;TZID=America/New_York:20260513T133000
DTSTAMP:20260425T121043
CREATED:20250911T194215Z
LAST-MODIFIED:20251103T183212Z
UID:10005880-1778673600-1778679000@bnaitikvah.org
SUMMARY:Lunch and Learn with Rabbi Wolkoff
DESCRIPTION:Join Rabbi Wolkoff for his weekly Lunch and Learn\, every Wednesday at 12pm (unless otherwise noted). Lunch begins promptly at 12pm\, followed by a lively discussion. This year’s topic is Book of Proverbs: Seeking Wisdom. \nPlease RSVP to the synagogue office.
URL:https://bnaitikvah.org/event/lunch-and-learn-with-rabbi-wolkoff-2/2026-05-13/
LOCATION:Congregation B’nai Tikvah\, 1001 Finnegans Lane\, North Brunswick\, NJ\, 08902\, United States
CATEGORIES:Adult Education
ATTACH;FMTTYPE=image/jpeg:https://bnaitikvah.org/wp-content/uploads/2021/02/lunch-and-learn.jpg
ORGANIZER;CN="Congregation B'nai Tikvah":MAILTO:office@bnaitikvah.org
END:VEVENT
BEGIN:VEVENT
DTSTART;TZID=America/New_York:20260515T190000
DTEND;TZID=America/New_York:20260515T190000
DTSTAMP:20260425T121043
CREATED:20260420T185041Z
LAST-MODIFIED:20260420T185041Z
UID:10007124-1778871600-1778871600@bnaitikvah.org
SUMMARY:Birthday Shabbat
DESCRIPTION:Join us for our Birthday Shabbat\, where we will celebrate all of our May birthdays\, with a special blessing and a birthday cake! Whether you have a birthday in May or not\, please join us for this special Kabbalat Shabbat. We’ll wish a very happy birthday to those that do\, and we’ll enjoy a full Oneg Shabbat after.
URL:https://bnaitikvah.org/event/birthday-shabbat/
LOCATION:Congregation B’nai Tikvah\, 1001 Finnegans Lane\, North Brunswick\, NJ\, 08902\, United States
ATTACH;FMTTYPE=image/png:https://bnaitikvah.org/wp-content/uploads/2025/09/Birthday_Shabbat-e1759159929129.png
ORGANIZER;CN="Congregation B'nai Tikvah":MAILTO:office@bnaitikvah.org
END:VEVENT
BEGIN:VEVENT
DTSTART;TZID=America/New_York:20260519T190000
DTEND;TZID=America/New_York:20260519T190000
DTSTAMP:20260425T121043
CREATED:20260420T182225Z
LAST-MODIFIED:20260420T182225Z
UID:10007123-1779217200-1779217200@bnaitikvah.org
SUMMARY:Monroe Monthly Minyan
DESCRIPTION:Welcome to our monthly minyan in Monroe! This does NOT take the place of our weeknight minyan in the synagogue. But\, we recognize that\, for some\, it is a far drive to come to North Brunswick from Monroe\, so it is our hope that monthly minyan will help support and provide community and outreach to our Monroe members. \nServices will begin at 7pm\, and will take place at Jewish Family Services\, located at 1600 Perrineville Road\, Suite 26 (Stop & Shop Shopping Center). \nFor those of you concerned that it is not the exact date of a yahrzeit\, please come and say Kaddish in Monroe anyway\, and support others who are saying Kaddish! \nQuestions? Concerns? Suggestion/Comments? Contact Bobbi Binder\, via the synagogue office.
URL:https://bnaitikvah.org/event/monroe-monthly-minyan-2/
LOCATION:Congregation B’nai Tikvah\, 1001 Finnegans Lane\, North Brunswick\, NJ\, 08902\, United States
ATTACH;FMTTYPE=image/png:https://bnaitikvah.org/wp-content/uploads/2025/10/Monthly-Minyan-1-e1760039755799.png
ORGANIZER;CN="Congregation B'nai Tikvah":MAILTO:office@bnaitikvah.org
END:VEVENT
BEGIN:VEVENT
DTSTART;TZID=America/New_York:20260601T193000
DTEND;TZID=America/New_York:20260601T213000
DTSTAMP:20260425T121043
CREATED:20251006T183215Z
LAST-MODIFIED:20251203T211240Z
UID:10006997-1780342200-1780349400@bnaitikvah.org
SUMMARY:Synagogue Board Meeting
DESCRIPTION:Synagogue board meetings are open to the membership\, except for closed sessions.
URL:https://bnaitikvah.org/event/synagogue-board-meeting-2/2026-06-01/
LOCATION:Congregation B’nai Tikvah\, 1001 Finnegans Lane\, North Brunswick\, NJ\, 08902\, United States
CATEGORIES:Governance
ATTACH;FMTTYPE=image/jpeg:https://bnaitikvah.org/wp-content/uploads/2024/06/boardmeetings-e1764796349176.jpg
ORGANIZER;CN="Congregation B'nai Tikvah":MAILTO:office@bnaitikvah.org
END:VEVENT
BEGIN:VEVENT
DTSTART;TZID=America/New_York:20260612T180000
DTEND;TZID=America/New_York:20260612T180000
DTSTAMP:20260425T121043
CREATED:20260310T182859Z
LAST-MODIFIED:20260424T160945Z
UID:10007108-1781287200-1781287200@bnaitikvah.org
SUMMARY:Pride Shabbaton
DESCRIPTION:
URL:https://bnaitikvah.org/event/pride-shabbaton/
LOCATION:Congregation B’nai Tikvah\, 1001 Finnegans Lane\, North Brunswick\, NJ\, 08902\, United States
ATTACH;FMTTYPE=image/png:https://bnaitikvah.org/wp-content/uploads/2026/03/Copy-of-Pride-Shabbaton-e1777046918564.png
ORGANIZER;CN="Congregation B'nai Tikvah":MAILTO:office@bnaitikvah.org
END:VEVENT
BEGIN:VEVENT
DTSTART;TZID=America/New_York:20260613T180000
DTEND;TZID=America/New_York:20260613T180000
DTSTAMP:20260425T121043
CREATED:20260310T182916Z
LAST-MODIFIED:20260424T160859Z
UID:10007109-1781373600-1781373600@bnaitikvah.org
SUMMARY:Pride Shabbaton
DESCRIPTION:
URL:https://bnaitikvah.org/event/pride-shabbaton-2/
LOCATION:Congregation B’nai Tikvah\, 1001 Finnegans Lane\, North Brunswick\, NJ\, 08902\, United States
ATTACH;FMTTYPE=image/png:https://bnaitikvah.org/wp-content/uploads/2026/03/Copy-of-Pride-Shabbaton-e1777046918564.png
ORGANIZER;CN="Congregation B'nai Tikvah":MAILTO:office@bnaitikvah.org
END:VEVENT
BEGIN:VEVENT
DTSTART;TZID=America/New_York:20260622T193000
DTEND;TZID=America/New_York:20260622T213000
DTSTAMP:20260425T121043
CREATED:20251006T183420Z
LAST-MODIFIED:20251006T183517Z
UID:10006999-1782156600-1782163800@bnaitikvah.org
SUMMARY:Congregational Meeting
DESCRIPTION:
URL:https://bnaitikvah.org/event/congregational-meeting/
LOCATION:Congregation B’nai Tikvah\, 1001 Finnegans Lane\, North Brunswick\, NJ\, 08902\, United States
CATEGORIES:Governance
ATTACH;FMTTYPE=image/jpeg:https://bnaitikvah.org/wp-content/uploads/2024/06/The-Peanuts-Movie-330-e1733336010760.jpg
ORGANIZER;CN="Congregation B'nai Tikvah":MAILTO:office@bnaitikvah.org
END:VEVENT
END:VCALENDAR