BEGIN:VCALENDAR
VERSION:2.0
PRODID:-//Congregation B&#039;nai Tikvah - ECPv6.15.20//NONSGML v1.0//EN
CALSCALE:GREGORIAN
METHOD:PUBLISH
X-ORIGINAL-URL:https://bnaitikvah.org
X-WR-CALDESC:Events for Congregation B&#039;nai Tikvah
REFRESH-INTERVAL;VALUE=DURATION:PT1H
X-Robots-Tag:noindex
X-PUBLISHED-TTL:PT1H
BEGIN:VTIMEZONE
TZID:America/New_York
BEGIN:DAYLIGHT
TZOFFSETFROM:-0500
TZOFFSETTO:-0400
TZNAME:EDT
DTSTART:20250309T070000
END:DAYLIGHT
BEGIN:STANDARD
TZOFFSETFROM:-0400
TZOFFSETTO:-0500
TZNAME:EST
DTSTART:20251102T060000
END:STANDARD
BEGIN:DAYLIGHT
TZOFFSETFROM:-0500
TZOFFSETTO:-0400
TZNAME:EDT
DTSTART:20260308T070000
END:DAYLIGHT
BEGIN:STANDARD
TZOFFSETFROM:-0400
TZOFFSETTO:-0500
TZNAME:EST
DTSTART:20261101T060000
END:STANDARD
BEGIN:DAYLIGHT
TZOFFSETFROM:-0500
TZOFFSETTO:-0400
TZNAME:EDT
DTSTART:20270314T070000
END:DAYLIGHT
BEGIN:STANDARD
TZOFFSETFROM:-0400
TZOFFSETTO:-0500
TZNAME:EST
DTSTART:20271107T060000
END:STANDARD
END:VTIMEZONE
BEGIN:VEVENT
DTSTART;TZID=America/New_York:20260425T093000
DTEND;TZID=America/New_York:20260425T120000
DTSTAMP:20260425T073042
CREATED:20250928T161026Z
LAST-MODIFIED:20250928T161026Z
UID:10006973-1777109400-1777118400@bnaitikvah.org
SUMMARY:Shabbat Morning
DESCRIPTION:Shabbat morning is weekly at 9:30am and can be streamed via our zoom room with the appropriate password.
URL:https://bnaitikvah.org/event/shabbat-morning/2026-04-25/
LOCATION:Congregation B’nai Tikvah\, 1001 Finnegans Lane\, North Brunswick\, NJ\, 08902\, United States
CATEGORIES:Services
ORGANIZER;CN="Congregation B'nai Tikvah":MAILTO:office@bnaitikvah.org
END:VEVENT
BEGIN:VEVENT
DTSTART;TZID=America/New_York:20260426T090000
DTEND;TZID=America/New_York:20260426T100000
DTSTAMP:20260425T073042
CREATED:20250925T174229Z
LAST-MODIFIED:20250925T174229Z
UID:10006853-1777194000-1777197600@bnaitikvah.org
SUMMARY:Sunday Morning Minyan
DESCRIPTION:Sunday morning minyan is at 9:00am and can be streamed via our zoom room with the appropriate password.
URL:https://bnaitikvah.org/event/sunday-morning-minyan/2026-04-26/
LOCATION:Congregation B’nai Tikvah\, 1001 Finnegans Lane\, North Brunswick\, NJ\, 08902\, United States
CATEGORIES:Services
ORGANIZER;CN="Congregation B'nai Tikvah":MAILTO:office@bnaitikvah.org
END:VEVENT
BEGIN:VEVENT
DTSTART;TZID=America/New_York:20260427T193000
DTEND;TZID=America/New_York:20260427T194500
DTSTAMP:20260425T073042
CREATED:20250925T173534Z
LAST-MODIFIED:20250925T173606Z
UID:10006694-1777318200-1777319100@bnaitikvah.org
SUMMARY:Monday Evening Minyan
DESCRIPTION:Evening minyan is nightly at 7:30 and can be streamed via our zoom room with the appropriate password.
URL:https://bnaitikvah.org/event/monday-evening-minyan/2026-04-27/
LOCATION:Congregation B’nai Tikvah\, 1001 Finnegans Lane\, North Brunswick\, NJ\, 08902\, United States
CATEGORIES:Services
ORGANIZER;CN="Congregation B'nai Tikvah":MAILTO:office@bnaitikvah.org
END:VEVENT
BEGIN:VEVENT
DTSTART;TZID=America/New_York:20260428T193000
DTEND;TZID=America/New_York:20260428T194500
DTSTAMP:20260425T073042
CREATED:20250925T173714Z
LAST-MODIFIED:20250928T160058Z
UID:10006774-1777404600-1777405500@bnaitikvah.org
SUMMARY:Tuesday Evening Minyan
DESCRIPTION:Evening minyan is nightly at 7:30 and can be streamed via our zoom room with the appropriate password.
URL:https://bnaitikvah.org/event/tuesday-evening-minyan/2026-04-28/
LOCATION:Congregation B’nai Tikvah\, 1001 Finnegans Lane\, North Brunswick\, NJ\, 08902\, United States
CATEGORIES:Services
ORGANIZER;CN="Congregation B'nai Tikvah":MAILTO:office@bnaitikvah.org
END:VEVENT
BEGIN:VEVENT
DTSTART;TZID=America/New_York:20260429T193000
DTEND;TZID=America/New_York:20260429T194500
DTSTAMP:20260425T073042
CREATED:20250925T174036Z
LAST-MODIFIED:20250925T174036Z
UID:10006814-1777491000-1777491900@bnaitikvah.org
SUMMARY:Wednesday Evening Minyan
DESCRIPTION:Evening minyan is nightly at 7:30 and can be streamed via our zoom room with the appropriate password.
URL:https://bnaitikvah.org/event/wednesday-evening-minyan/2026-04-29/
LOCATION:Congregation B’nai Tikvah\, 1001 Finnegans Lane\, North Brunswick\, NJ\, 08902\, United States
CATEGORIES:Services
ORGANIZER;CN="Congregation B'nai Tikvah":MAILTO:office@bnaitikvah.org
END:VEVENT
BEGIN:VEVENT
DTSTART;TZID=America/New_York:20260430T080000
DTEND;TZID=America/New_York:20260430T090000
DTSTAMP:20260425T073042
CREATED:20250928T160254Z
LAST-MODIFIED:20250928T160610Z
UID:10006896-1777536000-1777539600@bnaitikvah.org
SUMMARY:Thursday Morning Minyan
DESCRIPTION:Thursday morning minyan is weekly at 8:00am and can be streamed via our zoom room with the appropriate password.
URL:https://bnaitikvah.org/event/35661/2026-04-30/
LOCATION:Congregation B’nai Tikvah\, 1001 Finnegans Lane\, North Brunswick\, NJ\, 08902\, United States
CATEGORIES:Services
ORGANIZER;CN="Congregation B'nai Tikvah":MAILTO:office@bnaitikvah.org
END:VEVENT
BEGIN:VEVENT
DTSTART;TZID=America/New_York:20260430T193000
DTEND;TZID=America/New_York:20260430T194500
DTSTAMP:20260425T073042
CREATED:20250925T143722Z
LAST-MODIFIED:20250925T145435Z
UID:10006319-1777577400-1777578300@bnaitikvah.org
SUMMARY:Thursday Evening Minyan
DESCRIPTION:Evening minyan is nightly at 7:30 and can be streamed via our zoom room with the appropriate password.
URL:https://bnaitikvah.org/event/evening-minyan/2026-04-30/
LOCATION:Congregation B’nai Tikvah\, 1001 Finnegans Lane\, North Brunswick\, NJ\, 08902\, United States
CATEGORIES:Services
ORGANIZER;CN="Congregation B'nai Tikvah":MAILTO:office@bnaitikvah.org
END:VEVENT
END:VCALENDAR