BEGIN:VCALENDAR
VERSION:2.0
PRODID:-//Congregation B&#039;nai Tikvah - ECPv6.15.20//NONSGML v1.0//EN
CALSCALE:GREGORIAN
METHOD:PUBLISH
X-ORIGINAL-URL:https://bnaitikvah.org
X-WR-CALDESC:Events for Congregation B&#039;nai Tikvah
REFRESH-INTERVAL;VALUE=DURATION:PT1H
X-Robots-Tag:noindex
X-PUBLISHED-TTL:PT1H
BEGIN:VTIMEZONE
TZID:America/New_York
BEGIN:DAYLIGHT
TZOFFSETFROM:-0500
TZOFFSETTO:-0400
TZNAME:EDT
DTSTART:20250309T070000
END:DAYLIGHT
BEGIN:STANDARD
TZOFFSETFROM:-0400
TZOFFSETTO:-0500
TZNAME:EST
DTSTART:20251102T060000
END:STANDARD
BEGIN:DAYLIGHT
TZOFFSETFROM:-0500
TZOFFSETTO:-0400
TZNAME:EDT
DTSTART:20260308T070000
END:DAYLIGHT
BEGIN:STANDARD
TZOFFSETFROM:-0400
TZOFFSETTO:-0500
TZNAME:EST
DTSTART:20261101T060000
END:STANDARD
BEGIN:DAYLIGHT
TZOFFSETFROM:-0500
TZOFFSETTO:-0400
TZNAME:EDT
DTSTART:20270314T070000
END:DAYLIGHT
BEGIN:STANDARD
TZOFFSETFROM:-0400
TZOFFSETTO:-0500
TZNAME:EST
DTSTART:20271107T060000
END:STANDARD
END:VTIMEZONE
BEGIN:VEVENT
DTSTART;TZID=America/New_York:20260601T193000
DTEND;TZID=America/New_York:20260601T194500
DTSTAMP:20260425T114302
CREATED:20250925T173534Z
LAST-MODIFIED:20250925T173606Z
UID:10006699-1780342200-1780343100@bnaitikvah.org
SUMMARY:Monday Evening Minyan
DESCRIPTION:Evening minyan is nightly at 7:30 and can be streamed via our zoom room with the appropriate password.
URL:https://bnaitikvah.org/event/monday-evening-minyan/2026-06-01/
LOCATION:Congregation B’nai Tikvah\, 1001 Finnegans Lane\, North Brunswick\, NJ\, 08902\, United States
CATEGORIES:Services
ORGANIZER;CN="Congregation B'nai Tikvah":MAILTO:office@bnaitikvah.org
END:VEVENT
BEGIN:VEVENT
DTSTART;TZID=America/New_York:20260602T193000
DTEND;TZID=America/New_York:20260602T194500
DTSTAMP:20260425T114302
CREATED:20250925T173714Z
LAST-MODIFIED:20250928T160058Z
UID:10006779-1780428600-1780429500@bnaitikvah.org
SUMMARY:Tuesday Evening Minyan
DESCRIPTION:Evening minyan is nightly at 7:30 and can be streamed via our zoom room with the appropriate password.
URL:https://bnaitikvah.org/event/tuesday-evening-minyan/2026-06-02/
LOCATION:Congregation B’nai Tikvah\, 1001 Finnegans Lane\, North Brunswick\, NJ\, 08902\, United States
CATEGORIES:Services
ORGANIZER;CN="Congregation B'nai Tikvah":MAILTO:office@bnaitikvah.org
END:VEVENT
BEGIN:VEVENT
DTSTART;TZID=America/New_York:20260603T193000
DTEND;TZID=America/New_York:20260603T194500
DTSTAMP:20260425T114302
CREATED:20250925T174036Z
LAST-MODIFIED:20250925T174036Z
UID:10006819-1780515000-1780515900@bnaitikvah.org
SUMMARY:Wednesday Evening Minyan
DESCRIPTION:Evening minyan is nightly at 7:30 and can be streamed via our zoom room with the appropriate password.
URL:https://bnaitikvah.org/event/wednesday-evening-minyan/2026-06-03/
LOCATION:Congregation B’nai Tikvah\, 1001 Finnegans Lane\, North Brunswick\, NJ\, 08902\, United States
CATEGORIES:Services
ORGANIZER;CN="Congregation B'nai Tikvah":MAILTO:office@bnaitikvah.org
END:VEVENT
BEGIN:VEVENT
DTSTART;TZID=America/New_York:20260604T080000
DTEND;TZID=America/New_York:20260604T090000
DTSTAMP:20260425T114302
CREATED:20250928T160254Z
LAST-MODIFIED:20250928T160610Z
UID:10006901-1780560000-1780563600@bnaitikvah.org
SUMMARY:Thursday Morning Minyan
DESCRIPTION:Thursday morning minyan is weekly at 8:00am and can be streamed via our zoom room with the appropriate password.
URL:https://bnaitikvah.org/event/35661/2026-06-04/
LOCATION:Congregation B’nai Tikvah\, 1001 Finnegans Lane\, North Brunswick\, NJ\, 08902\, United States
CATEGORIES:Services
ORGANIZER;CN="Congregation B'nai Tikvah":MAILTO:office@bnaitikvah.org
END:VEVENT
BEGIN:VEVENT
DTSTART;TZID=America/New_York:20260604T193000
DTEND;TZID=America/New_York:20260604T194500
DTSTAMP:20260425T114302
CREATED:20250925T143722Z
LAST-MODIFIED:20250925T145435Z
UID:10006344-1780601400-1780602300@bnaitikvah.org
SUMMARY:Thursday Evening Minyan
DESCRIPTION:Evening minyan is nightly at 7:30 and can be streamed via our zoom room with the appropriate password.
URL:https://bnaitikvah.org/event/evening-minyan/2026-06-04/
LOCATION:Congregation B’nai Tikvah\, 1001 Finnegans Lane\, North Brunswick\, NJ\, 08902\, United States
CATEGORIES:Services
ORGANIZER;CN="Congregation B'nai Tikvah":MAILTO:office@bnaitikvah.org
END:VEVENT
BEGIN:VEVENT
DTSTART;TZID=America/New_York:20260605T190000
DTEND;TZID=America/New_York:20260605T203000
DTSTAMP:20260425T114302
CREATED:20250928T160849Z
LAST-MODIFIED:20250928T160849Z
UID:10006940-1780686000-1780691400@bnaitikvah.org
SUMMARY:Kabbalat Shabbat
DESCRIPTION:Kabbalat Shabbat is weekly at 7:00pm and can be streamed via our zoom room with the appropriate password.
URL:https://bnaitikvah.org/event/kabbalat-shabbat/2026-06-05/
LOCATION:Congregation B’nai Tikvah\, 1001 Finnegans Lane\, North Brunswick\, NJ\, 08902\, United States
CATEGORIES:Services
ORGANIZER;CN="Congregation B'nai Tikvah":MAILTO:office@bnaitikvah.org
END:VEVENT
BEGIN:VEVENT
DTSTART;TZID=America/New_York:20260606T093000
DTEND;TZID=America/New_York:20260606T120000
DTSTAMP:20260425T114302
CREATED:20250928T161026Z
LAST-MODIFIED:20250928T161026Z
UID:10006979-1780738200-1780747200@bnaitikvah.org
SUMMARY:Shabbat Morning
DESCRIPTION:Shabbat morning is weekly at 9:30am and can be streamed via our zoom room with the appropriate password.
URL:https://bnaitikvah.org/event/shabbat-morning/2026-06-06/
LOCATION:Congregation B’nai Tikvah\, 1001 Finnegans Lane\, North Brunswick\, NJ\, 08902\, United States
CATEGORIES:Services
ORGANIZER;CN="Congregation B'nai Tikvah":MAILTO:office@bnaitikvah.org
END:VEVENT
BEGIN:VEVENT
DTSTART;TZID=America/New_York:20260607T090000
DTEND;TZID=America/New_York:20260607T100000
DTSTAMP:20260425T114302
CREATED:20250925T174229Z
LAST-MODIFIED:20250925T174229Z
UID:10006859-1780822800-1780826400@bnaitikvah.org
SUMMARY:Sunday Morning Minyan
DESCRIPTION:Sunday morning minyan is at 9:00am and can be streamed via our zoom room with the appropriate password.
URL:https://bnaitikvah.org/event/sunday-morning-minyan/2026-06-07/
LOCATION:Congregation B’nai Tikvah\, 1001 Finnegans Lane\, North Brunswick\, NJ\, 08902\, United States
CATEGORIES:Services
ORGANIZER;CN="Congregation B'nai Tikvah":MAILTO:office@bnaitikvah.org
END:VEVENT
BEGIN:VEVENT
DTSTART;TZID=America/New_York:20260608T193000
DTEND;TZID=America/New_York:20260608T194500
DTSTAMP:20260425T114302
CREATED:20250925T173534Z
LAST-MODIFIED:20250925T173606Z
UID:10006700-1780947000-1780947900@bnaitikvah.org
SUMMARY:Monday Evening Minyan
DESCRIPTION:Evening minyan is nightly at 7:30 and can be streamed via our zoom room with the appropriate password.
URL:https://bnaitikvah.org/event/monday-evening-minyan/2026-06-08/
LOCATION:Congregation B’nai Tikvah\, 1001 Finnegans Lane\, North Brunswick\, NJ\, 08902\, United States
CATEGORIES:Services
ORGANIZER;CN="Congregation B'nai Tikvah":MAILTO:office@bnaitikvah.org
END:VEVENT
BEGIN:VEVENT
DTSTART;TZID=America/New_York:20260609T193000
DTEND;TZID=America/New_York:20260609T194500
DTSTAMP:20260425T114302
CREATED:20250925T173714Z
LAST-MODIFIED:20250928T160058Z
UID:10006780-1781033400-1781034300@bnaitikvah.org
SUMMARY:Tuesday Evening Minyan
DESCRIPTION:Evening minyan is nightly at 7:30 and can be streamed via our zoom room with the appropriate password.
URL:https://bnaitikvah.org/event/tuesday-evening-minyan/2026-06-09/
LOCATION:Congregation B’nai Tikvah\, 1001 Finnegans Lane\, North Brunswick\, NJ\, 08902\, United States
CATEGORIES:Services
ORGANIZER;CN="Congregation B'nai Tikvah":MAILTO:office@bnaitikvah.org
END:VEVENT
BEGIN:VEVENT
DTSTART;TZID=America/New_York:20260610T193000
DTEND;TZID=America/New_York:20260610T194500
DTSTAMP:20260425T114302
CREATED:20250925T174036Z
LAST-MODIFIED:20250925T174036Z
UID:10006820-1781119800-1781120700@bnaitikvah.org
SUMMARY:Wednesday Evening Minyan
DESCRIPTION:Evening minyan is nightly at 7:30 and can be streamed via our zoom room with the appropriate password.
URL:https://bnaitikvah.org/event/wednesday-evening-minyan/2026-06-10/
LOCATION:Congregation B’nai Tikvah\, 1001 Finnegans Lane\, North Brunswick\, NJ\, 08902\, United States
CATEGORIES:Services
ORGANIZER;CN="Congregation B'nai Tikvah":MAILTO:office@bnaitikvah.org
END:VEVENT
BEGIN:VEVENT
DTSTART;TZID=America/New_York:20260611T080000
DTEND;TZID=America/New_York:20260611T090000
DTSTAMP:20260425T114302
CREATED:20250928T160254Z
LAST-MODIFIED:20250928T160610Z
UID:10006902-1781164800-1781168400@bnaitikvah.org
SUMMARY:Thursday Morning Minyan
DESCRIPTION:Thursday morning minyan is weekly at 8:00am and can be streamed via our zoom room with the appropriate password.
URL:https://bnaitikvah.org/event/35661/2026-06-11/
LOCATION:Congregation B’nai Tikvah\, 1001 Finnegans Lane\, North Brunswick\, NJ\, 08902\, United States
CATEGORIES:Services
ORGANIZER;CN="Congregation B'nai Tikvah":MAILTO:office@bnaitikvah.org
END:VEVENT
BEGIN:VEVENT
DTSTART;TZID=America/New_York:20260611T193000
DTEND;TZID=America/New_York:20260611T194500
DTSTAMP:20260425T114302
CREATED:20250925T143722Z
LAST-MODIFIED:20250925T145435Z
UID:10006349-1781206200-1781207100@bnaitikvah.org
SUMMARY:Thursday Evening Minyan
DESCRIPTION:Evening minyan is nightly at 7:30 and can be streamed via our zoom room with the appropriate password.
URL:https://bnaitikvah.org/event/evening-minyan/2026-06-11/
LOCATION:Congregation B’nai Tikvah\, 1001 Finnegans Lane\, North Brunswick\, NJ\, 08902\, United States
CATEGORIES:Services
ORGANIZER;CN="Congregation B'nai Tikvah":MAILTO:office@bnaitikvah.org
END:VEVENT
BEGIN:VEVENT
DTSTART;TZID=America/New_York:20260612T190000
DTEND;TZID=America/New_York:20260612T203000
DTSTAMP:20260425T114302
CREATED:20250928T160849Z
LAST-MODIFIED:20250928T160849Z
UID:10006941-1781290800-1781296200@bnaitikvah.org
SUMMARY:Kabbalat Shabbat
DESCRIPTION:Kabbalat Shabbat is weekly at 7:00pm and can be streamed via our zoom room with the appropriate password.
URL:https://bnaitikvah.org/event/kabbalat-shabbat/2026-06-12/
LOCATION:Congregation B’nai Tikvah\, 1001 Finnegans Lane\, North Brunswick\, NJ\, 08902\, United States
CATEGORIES:Services
ORGANIZER;CN="Congregation B'nai Tikvah":MAILTO:office@bnaitikvah.org
END:VEVENT
BEGIN:VEVENT
DTSTART;TZID=America/New_York:20260613T093000
DTEND;TZID=America/New_York:20260613T120000
DTSTAMP:20260425T114302
CREATED:20250928T161026Z
LAST-MODIFIED:20250928T161026Z
UID:10006980-1781343000-1781352000@bnaitikvah.org
SUMMARY:Shabbat Morning
DESCRIPTION:Shabbat morning is weekly at 9:30am and can be streamed via our zoom room with the appropriate password.
URL:https://bnaitikvah.org/event/shabbat-morning/2026-06-13/
LOCATION:Congregation B’nai Tikvah\, 1001 Finnegans Lane\, North Brunswick\, NJ\, 08902\, United States
CATEGORIES:Services
ORGANIZER;CN="Congregation B'nai Tikvah":MAILTO:office@bnaitikvah.org
END:VEVENT
BEGIN:VEVENT
DTSTART;TZID=America/New_York:20260614T090000
DTEND;TZID=America/New_York:20260614T100000
DTSTAMP:20260425T114302
CREATED:20250925T174229Z
LAST-MODIFIED:20250925T174229Z
UID:10006860-1781427600-1781431200@bnaitikvah.org
SUMMARY:Sunday Morning Minyan
DESCRIPTION:Sunday morning minyan is at 9:00am and can be streamed via our zoom room with the appropriate password.
URL:https://bnaitikvah.org/event/sunday-morning-minyan/2026-06-14/
LOCATION:Congregation B’nai Tikvah\, 1001 Finnegans Lane\, North Brunswick\, NJ\, 08902\, United States
CATEGORIES:Services
ORGANIZER;CN="Congregation B'nai Tikvah":MAILTO:office@bnaitikvah.org
END:VEVENT
BEGIN:VEVENT
DTSTART;TZID=America/New_York:20260615T193000
DTEND;TZID=America/New_York:20260615T194500
DTSTAMP:20260425T114302
CREATED:20250925T173534Z
LAST-MODIFIED:20250925T173606Z
UID:10006701-1781551800-1781552700@bnaitikvah.org
SUMMARY:Monday Evening Minyan
DESCRIPTION:Evening minyan is nightly at 7:30 and can be streamed via our zoom room with the appropriate password.
URL:https://bnaitikvah.org/event/monday-evening-minyan/2026-06-15/
LOCATION:Congregation B’nai Tikvah\, 1001 Finnegans Lane\, North Brunswick\, NJ\, 08902\, United States
CATEGORIES:Services
ORGANIZER;CN="Congregation B'nai Tikvah":MAILTO:office@bnaitikvah.org
END:VEVENT
BEGIN:VEVENT
DTSTART;TZID=America/New_York:20260616T193000
DTEND;TZID=America/New_York:20260616T194500
DTSTAMP:20260425T114302
CREATED:20250925T173714Z
LAST-MODIFIED:20250928T160058Z
UID:10006781-1781638200-1781639100@bnaitikvah.org
SUMMARY:Tuesday Evening Minyan
DESCRIPTION:Evening minyan is nightly at 7:30 and can be streamed via our zoom room with the appropriate password.
URL:https://bnaitikvah.org/event/tuesday-evening-minyan/2026-06-16/
LOCATION:Congregation B’nai Tikvah\, 1001 Finnegans Lane\, North Brunswick\, NJ\, 08902\, United States
CATEGORIES:Services
ORGANIZER;CN="Congregation B'nai Tikvah":MAILTO:office@bnaitikvah.org
END:VEVENT
BEGIN:VEVENT
DTSTART;TZID=America/New_York:20260617T193000
DTEND;TZID=America/New_York:20260617T194500
DTSTAMP:20260425T114302
CREATED:20250925T174036Z
LAST-MODIFIED:20250925T174036Z
UID:10006821-1781724600-1781725500@bnaitikvah.org
SUMMARY:Wednesday Evening Minyan
DESCRIPTION:Evening minyan is nightly at 7:30 and can be streamed via our zoom room with the appropriate password.
URL:https://bnaitikvah.org/event/wednesday-evening-minyan/2026-06-17/
LOCATION:Congregation B’nai Tikvah\, 1001 Finnegans Lane\, North Brunswick\, NJ\, 08902\, United States
CATEGORIES:Services
ORGANIZER;CN="Congregation B'nai Tikvah":MAILTO:office@bnaitikvah.org
END:VEVENT
BEGIN:VEVENT
DTSTART;TZID=America/New_York:20260618T080000
DTEND;TZID=America/New_York:20260618T090000
DTSTAMP:20260425T114302
CREATED:20250928T160254Z
LAST-MODIFIED:20250928T160610Z
UID:10006903-1781769600-1781773200@bnaitikvah.org
SUMMARY:Thursday Morning Minyan
DESCRIPTION:Thursday morning minyan is weekly at 8:00am and can be streamed via our zoom room with the appropriate password.
URL:https://bnaitikvah.org/event/35661/2026-06-18/
LOCATION:Congregation B’nai Tikvah\, 1001 Finnegans Lane\, North Brunswick\, NJ\, 08902\, United States
CATEGORIES:Services
ORGANIZER;CN="Congregation B'nai Tikvah":MAILTO:office@bnaitikvah.org
END:VEVENT
BEGIN:VEVENT
DTSTART;TZID=America/New_York:20260618T193000
DTEND;TZID=America/New_York:20260618T194500
DTSTAMP:20260425T114302
CREATED:20250925T143722Z
LAST-MODIFIED:20250925T145435Z
UID:10006354-1781811000-1781811900@bnaitikvah.org
SUMMARY:Thursday Evening Minyan
DESCRIPTION:Evening minyan is nightly at 7:30 and can be streamed via our zoom room with the appropriate password.
URL:https://bnaitikvah.org/event/evening-minyan/2026-06-18/
LOCATION:Congregation B’nai Tikvah\, 1001 Finnegans Lane\, North Brunswick\, NJ\, 08902\, United States
CATEGORIES:Services
ORGANIZER;CN="Congregation B'nai Tikvah":MAILTO:office@bnaitikvah.org
END:VEVENT
BEGIN:VEVENT
DTSTART;TZID=America/New_York:20260619T190000
DTEND;TZID=America/New_York:20260619T203000
DTSTAMP:20260425T114302
CREATED:20250928T160849Z
LAST-MODIFIED:20250928T160849Z
UID:10006942-1781895600-1781901000@bnaitikvah.org
SUMMARY:Kabbalat Shabbat
DESCRIPTION:Kabbalat Shabbat is weekly at 7:00pm and can be streamed via our zoom room with the appropriate password.
URL:https://bnaitikvah.org/event/kabbalat-shabbat/2026-06-19/
LOCATION:Congregation B’nai Tikvah\, 1001 Finnegans Lane\, North Brunswick\, NJ\, 08902\, United States
CATEGORIES:Services
ORGANIZER;CN="Congregation B'nai Tikvah":MAILTO:office@bnaitikvah.org
END:VEVENT
BEGIN:VEVENT
DTSTART;TZID=America/New_York:20260620T093000
DTEND;TZID=America/New_York:20260620T120000
DTSTAMP:20260425T114302
CREATED:20250928T161026Z
LAST-MODIFIED:20250928T161026Z
UID:10006981-1781947800-1781956800@bnaitikvah.org
SUMMARY:Shabbat Morning
DESCRIPTION:Shabbat morning is weekly at 9:30am and can be streamed via our zoom room with the appropriate password.
URL:https://bnaitikvah.org/event/shabbat-morning/2026-06-20/
LOCATION:Congregation B’nai Tikvah\, 1001 Finnegans Lane\, North Brunswick\, NJ\, 08902\, United States
CATEGORIES:Services
ORGANIZER;CN="Congregation B'nai Tikvah":MAILTO:office@bnaitikvah.org
END:VEVENT
BEGIN:VEVENT
DTSTART;TZID=America/New_York:20260621T090000
DTEND;TZID=America/New_York:20260621T100000
DTSTAMP:20260425T114302
CREATED:20250925T174229Z
LAST-MODIFIED:20250925T174229Z
UID:10006861-1782032400-1782036000@bnaitikvah.org
SUMMARY:Sunday Morning Minyan
DESCRIPTION:Sunday morning minyan is at 9:00am and can be streamed via our zoom room with the appropriate password.
URL:https://bnaitikvah.org/event/sunday-morning-minyan/2026-06-21/
LOCATION:Congregation B’nai Tikvah\, 1001 Finnegans Lane\, North Brunswick\, NJ\, 08902\, United States
CATEGORIES:Services
ORGANIZER;CN="Congregation B'nai Tikvah":MAILTO:office@bnaitikvah.org
END:VEVENT
BEGIN:VEVENT
DTSTART;TZID=America/New_York:20260622T193000
DTEND;TZID=America/New_York:20260622T194500
DTSTAMP:20260425T114302
CREATED:20250925T173534Z
LAST-MODIFIED:20250925T173606Z
UID:10006702-1782156600-1782157500@bnaitikvah.org
SUMMARY:Monday Evening Minyan
DESCRIPTION:Evening minyan is nightly at 7:30 and can be streamed via our zoom room with the appropriate password.
URL:https://bnaitikvah.org/event/monday-evening-minyan/2026-06-22/
LOCATION:Congregation B’nai Tikvah\, 1001 Finnegans Lane\, North Brunswick\, NJ\, 08902\, United States
CATEGORIES:Services
ORGANIZER;CN="Congregation B'nai Tikvah":MAILTO:office@bnaitikvah.org
END:VEVENT
BEGIN:VEVENT
DTSTART;TZID=America/New_York:20260623T193000
DTEND;TZID=America/New_York:20260623T194500
DTSTAMP:20260425T114302
CREATED:20250925T173714Z
LAST-MODIFIED:20250928T160058Z
UID:10006782-1782243000-1782243900@bnaitikvah.org
SUMMARY:Tuesday Evening Minyan
DESCRIPTION:Evening minyan is nightly at 7:30 and can be streamed via our zoom room with the appropriate password.
URL:https://bnaitikvah.org/event/tuesday-evening-minyan/2026-06-23/
LOCATION:Congregation B’nai Tikvah\, 1001 Finnegans Lane\, North Brunswick\, NJ\, 08902\, United States
CATEGORIES:Services
ORGANIZER;CN="Congregation B'nai Tikvah":MAILTO:office@bnaitikvah.org
END:VEVENT
BEGIN:VEVENT
DTSTART;TZID=America/New_York:20260624T193000
DTEND;TZID=America/New_York:20260624T194500
DTSTAMP:20260425T114302
CREATED:20250925T174036Z
LAST-MODIFIED:20250925T174036Z
UID:10006822-1782329400-1782330300@bnaitikvah.org
SUMMARY:Wednesday Evening Minyan
DESCRIPTION:Evening minyan is nightly at 7:30 and can be streamed via our zoom room with the appropriate password.
URL:https://bnaitikvah.org/event/wednesday-evening-minyan/2026-06-24/
LOCATION:Congregation B’nai Tikvah\, 1001 Finnegans Lane\, North Brunswick\, NJ\, 08902\, United States
CATEGORIES:Services
ORGANIZER;CN="Congregation B'nai Tikvah":MAILTO:office@bnaitikvah.org
END:VEVENT
BEGIN:VEVENT
DTSTART;TZID=America/New_York:20260625T080000
DTEND;TZID=America/New_York:20260625T090000
DTSTAMP:20260425T114302
CREATED:20250928T160254Z
LAST-MODIFIED:20250928T160610Z
UID:10006904-1782374400-1782378000@bnaitikvah.org
SUMMARY:Thursday Morning Minyan
DESCRIPTION:Thursday morning minyan is weekly at 8:00am and can be streamed via our zoom room with the appropriate password.
URL:https://bnaitikvah.org/event/35661/2026-06-25/
LOCATION:Congregation B’nai Tikvah\, 1001 Finnegans Lane\, North Brunswick\, NJ\, 08902\, United States
CATEGORIES:Services
ORGANIZER;CN="Congregation B'nai Tikvah":MAILTO:office@bnaitikvah.org
END:VEVENT
BEGIN:VEVENT
DTSTART;TZID=America/New_York:20260625T193000
DTEND;TZID=America/New_York:20260625T194500
DTSTAMP:20260425T114302
CREATED:20250925T143722Z
LAST-MODIFIED:20250925T145435Z
UID:10006359-1782415800-1782416700@bnaitikvah.org
SUMMARY:Thursday Evening Minyan
DESCRIPTION:Evening minyan is nightly at 7:30 and can be streamed via our zoom room with the appropriate password.
URL:https://bnaitikvah.org/event/evening-minyan/2026-06-25/
LOCATION:Congregation B’nai Tikvah\, 1001 Finnegans Lane\, North Brunswick\, NJ\, 08902\, United States
CATEGORIES:Services
ORGANIZER;CN="Congregation B'nai Tikvah":MAILTO:office@bnaitikvah.org
END:VEVENT
BEGIN:VEVENT
DTSTART;TZID=America/New_York:20260626T190000
DTEND;TZID=America/New_York:20260626T203000
DTSTAMP:20260425T114302
CREATED:20250928T160849Z
LAST-MODIFIED:20250928T160849Z
UID:10006943-1782500400-1782505800@bnaitikvah.org
SUMMARY:Kabbalat Shabbat
DESCRIPTION:Kabbalat Shabbat is weekly at 7:00pm and can be streamed via our zoom room with the appropriate password.
URL:https://bnaitikvah.org/event/kabbalat-shabbat/2026-06-26/
LOCATION:Congregation B’nai Tikvah\, 1001 Finnegans Lane\, North Brunswick\, NJ\, 08902\, United States
CATEGORIES:Services
ORGANIZER;CN="Congregation B'nai Tikvah":MAILTO:office@bnaitikvah.org
END:VEVENT
END:VCALENDAR