BEGIN:VCALENDAR
VERSION:2.0
PRODID:-//Congregation B&#039;nai Tikvah - ECPv6.15.20//NONSGML v1.0//EN
CALSCALE:GREGORIAN
METHOD:PUBLISH
X-WR-CALNAME:Congregation B&#039;nai Tikvah
X-ORIGINAL-URL:https://bnaitikvah.org
X-WR-CALDESC:Events for Congregation B&#039;nai Tikvah
REFRESH-INTERVAL;VALUE=DURATION:PT1H
X-Robots-Tag:noindex
X-PUBLISHED-TTL:PT1H
BEGIN:VTIMEZONE
TZID:America/New_York
BEGIN:DAYLIGHT
TZOFFSETFROM:-0500
TZOFFSETTO:-0400
TZNAME:EDT
DTSTART:20250309T070000
END:DAYLIGHT
BEGIN:STANDARD
TZOFFSETFROM:-0400
TZOFFSETTO:-0500
TZNAME:EST
DTSTART:20251102T060000
END:STANDARD
BEGIN:DAYLIGHT
TZOFFSETFROM:-0500
TZOFFSETTO:-0400
TZNAME:EDT
DTSTART:20260308T070000
END:DAYLIGHT
BEGIN:STANDARD
TZOFFSETFROM:-0400
TZOFFSETTO:-0500
TZNAME:EST
DTSTART:20261101T060000
END:STANDARD
BEGIN:DAYLIGHT
TZOFFSETFROM:-0500
TZOFFSETTO:-0400
TZNAME:EDT
DTSTART:20270314T070000
END:DAYLIGHT
BEGIN:STANDARD
TZOFFSETFROM:-0400
TZOFFSETTO:-0500
TZNAME:EST
DTSTART:20271107T060000
END:STANDARD
END:VTIMEZONE
BEGIN:VEVENT
DTSTART;TZID=America/New_York:20260324T193000
DTEND;TZID=America/New_York:20260324T194500
DTSTAMP:20260425T085555
CREATED:20250925T173714Z
LAST-MODIFIED:20250928T160058Z
UID:10006769-1774380600-1774381500@bnaitikvah.org
SUMMARY:Tuesday Evening Minyan
DESCRIPTION:Evening minyan is nightly at 7:30 and can be streamed via our zoom room with the appropriate password.
URL:https://bnaitikvah.org/event/tuesday-evening-minyan/2026-03-24/
LOCATION:Congregation B’nai Tikvah\, 1001 Finnegans Lane\, North Brunswick\, NJ\, 08902\, United States
CATEGORIES:Services
ORGANIZER;CN="Congregation B'nai Tikvah":MAILTO:office@bnaitikvah.org
END:VEVENT
BEGIN:VEVENT
DTSTART;TZID=America/New_York:20260325T193000
DTEND;TZID=America/New_York:20260325T194500
DTSTAMP:20260425T085555
CREATED:20250925T174036Z
LAST-MODIFIED:20250925T174036Z
UID:10006809-1774467000-1774467900@bnaitikvah.org
SUMMARY:Wednesday Evening Minyan
DESCRIPTION:Evening minyan is nightly at 7:30 and can be streamed via our zoom room with the appropriate password.
URL:https://bnaitikvah.org/event/wednesday-evening-minyan/2026-03-25/
LOCATION:Congregation B’nai Tikvah\, 1001 Finnegans Lane\, North Brunswick\, NJ\, 08902\, United States
CATEGORIES:Services
ORGANIZER;CN="Congregation B'nai Tikvah":MAILTO:office@bnaitikvah.org
END:VEVENT
BEGIN:VEVENT
DTSTART;TZID=America/New_York:20260326T080000
DTEND;TZID=America/New_York:20260326T090000
DTSTAMP:20260425T085555
CREATED:20250928T160254Z
LAST-MODIFIED:20250928T160610Z
UID:10006891-1774512000-1774515600@bnaitikvah.org
SUMMARY:Thursday Morning Minyan
DESCRIPTION:Thursday morning minyan is weekly at 8:00am and can be streamed via our zoom room with the appropriate password.
URL:https://bnaitikvah.org/event/35661/2026-03-26/
LOCATION:Congregation B’nai Tikvah\, 1001 Finnegans Lane\, North Brunswick\, NJ\, 08902\, United States
CATEGORIES:Services
ORGANIZER;CN="Congregation B'nai Tikvah":MAILTO:office@bnaitikvah.org
END:VEVENT
BEGIN:VEVENT
DTSTART;TZID=America/New_York:20260326T193000
DTEND;TZID=America/New_York:20260326T194500
DTSTAMP:20260425T085555
CREATED:20250925T143722Z
LAST-MODIFIED:20250925T145435Z
UID:10006294-1774553400-1774554300@bnaitikvah.org
SUMMARY:Thursday Evening Minyan
DESCRIPTION:Evening minyan is nightly at 7:30 and can be streamed via our zoom room with the appropriate password.
URL:https://bnaitikvah.org/event/evening-minyan/2026-03-26/
LOCATION:Congregation B’nai Tikvah\, 1001 Finnegans Lane\, North Brunswick\, NJ\, 08902\, United States
CATEGORIES:Services
ORGANIZER;CN="Congregation B'nai Tikvah":MAILTO:office@bnaitikvah.org
END:VEVENT
BEGIN:VEVENT
DTSTART;TZID=America/New_York:20260327T190000
DTEND;TZID=America/New_York:20260327T203000
DTSTAMP:20260425T085555
CREATED:20250928T160849Z
LAST-MODIFIED:20250928T160849Z
UID:10006930-1774638000-1774643400@bnaitikvah.org
SUMMARY:Kabbalat Shabbat
DESCRIPTION:Kabbalat Shabbat is weekly at 7:00pm and can be streamed via our zoom room with the appropriate password.
URL:https://bnaitikvah.org/event/kabbalat-shabbat/2026-03-27/
LOCATION:Congregation B’nai Tikvah\, 1001 Finnegans Lane\, North Brunswick\, NJ\, 08902\, United States
CATEGORIES:Services
ORGANIZER;CN="Congregation B'nai Tikvah":MAILTO:office@bnaitikvah.org
END:VEVENT
BEGIN:VEVENT
DTSTART;TZID=America/New_York:20260328T093000
DTEND;TZID=America/New_York:20260328T120000
DTSTAMP:20260425T085555
CREATED:20250928T161026Z
LAST-MODIFIED:20250928T161026Z
UID:10006969-1774690200-1774699200@bnaitikvah.org
SUMMARY:Shabbat Morning
DESCRIPTION:Shabbat morning is weekly at 9:30am and can be streamed via our zoom room with the appropriate password.
URL:https://bnaitikvah.org/event/shabbat-morning/2026-03-28/
LOCATION:Congregation B’nai Tikvah\, 1001 Finnegans Lane\, North Brunswick\, NJ\, 08902\, United States
CATEGORIES:Services
ORGANIZER;CN="Congregation B'nai Tikvah":MAILTO:office@bnaitikvah.org
END:VEVENT
BEGIN:VEVENT
DTSTART;TZID=America/New_York:20260329T090000
DTEND;TZID=America/New_York:20260329T100000
DTSTAMP:20260425T085555
CREATED:20250925T174229Z
LAST-MODIFIED:20250925T174229Z
UID:10006849-1774774800-1774778400@bnaitikvah.org
SUMMARY:Sunday Morning Minyan
DESCRIPTION:Sunday morning minyan is at 9:00am and can be streamed via our zoom room with the appropriate password.
URL:https://bnaitikvah.org/event/sunday-morning-minyan/2026-03-29/
LOCATION:Congregation B’nai Tikvah\, 1001 Finnegans Lane\, North Brunswick\, NJ\, 08902\, United States
CATEGORIES:Services
ORGANIZER;CN="Congregation B'nai Tikvah":MAILTO:office@bnaitikvah.org
END:VEVENT
BEGIN:VEVENT
DTSTART;TZID=America/New_York:20260330T193000
DTEND;TZID=America/New_York:20260330T194500
DTSTAMP:20260425T085555
CREATED:20250925T173534Z
LAST-MODIFIED:20250925T173606Z
UID:10006690-1774899000-1774899900@bnaitikvah.org
SUMMARY:Monday Evening Minyan
DESCRIPTION:Evening minyan is nightly at 7:30 and can be streamed via our zoom room with the appropriate password.
URL:https://bnaitikvah.org/event/monday-evening-minyan/2026-03-30/
LOCATION:Congregation B’nai Tikvah\, 1001 Finnegans Lane\, North Brunswick\, NJ\, 08902\, United States
CATEGORIES:Services
ORGANIZER;CN="Congregation B'nai Tikvah":MAILTO:office@bnaitikvah.org
END:VEVENT
BEGIN:VEVENT
DTSTART;TZID=America/New_York:20260331T193000
DTEND;TZID=America/New_York:20260331T194500
DTSTAMP:20260425T085555
CREATED:20250925T173714Z
LAST-MODIFIED:20250928T160058Z
UID:10006770-1774985400-1774986300@bnaitikvah.org
SUMMARY:Tuesday Evening Minyan
DESCRIPTION:Evening minyan is nightly at 7:30 and can be streamed via our zoom room with the appropriate password.
URL:https://bnaitikvah.org/event/tuesday-evening-minyan/2026-03-31/
LOCATION:Congregation B’nai Tikvah\, 1001 Finnegans Lane\, North Brunswick\, NJ\, 08902\, United States
CATEGORIES:Services
ORGANIZER;CN="Congregation B'nai Tikvah":MAILTO:office@bnaitikvah.org
END:VEVENT
END:VCALENDAR