BEGIN:VCALENDAR
VERSION:2.0
PRODID:-//Congregation B&#039;nai Tikvah - ECPv6.15.20//NONSGML v1.0//EN
CALSCALE:GREGORIAN
METHOD:PUBLISH
X-ORIGINAL-URL:https://bnaitikvah.org
X-WR-CALDESC:Events for Congregation B&#039;nai Tikvah
REFRESH-INTERVAL;VALUE=DURATION:PT1H
X-Robots-Tag:noindex
X-PUBLISHED-TTL:PT1H
BEGIN:VTIMEZONE
TZID:America/New_York
BEGIN:DAYLIGHT
TZOFFSETFROM:-0500
TZOFFSETTO:-0400
TZNAME:EDT
DTSTART:20250309T070000
END:DAYLIGHT
BEGIN:STANDARD
TZOFFSETFROM:-0400
TZOFFSETTO:-0500
TZNAME:EST
DTSTART:20251102T060000
END:STANDARD
BEGIN:DAYLIGHT
TZOFFSETFROM:-0500
TZOFFSETTO:-0400
TZNAME:EDT
DTSTART:20260308T070000
END:DAYLIGHT
BEGIN:STANDARD
TZOFFSETFROM:-0400
TZOFFSETTO:-0500
TZNAME:EST
DTSTART:20261101T060000
END:STANDARD
BEGIN:DAYLIGHT
TZOFFSETFROM:-0500
TZOFFSETTO:-0400
TZNAME:EDT
DTSTART:20270314T070000
END:DAYLIGHT
BEGIN:STANDARD
TZOFFSETFROM:-0400
TZOFFSETTO:-0500
TZNAME:EST
DTSTART:20271107T060000
END:STANDARD
END:VTIMEZONE
BEGIN:VEVENT
DTSTART;TZID=America/New_York:20260422T120000
DTEND;TZID=America/New_York:20260422T133000
DTSTAMP:20260424T221308
CREATED:20250911T194215Z
LAST-MODIFIED:20251103T183212Z
UID:10005877-1776859200-1776864600@bnaitikvah.org
SUMMARY:Lunch and Learn with Rabbi Wolkoff
DESCRIPTION:Join Rabbi Wolkoff for his weekly Lunch and Learn\, every Wednesday at 12pm (unless otherwise noted). Lunch begins promptly at 12pm\, followed by a lively discussion. This year’s topic is Book of Proverbs: Seeking Wisdom. \nPlease RSVP to the synagogue office.
URL:https://bnaitikvah.org/event/lunch-and-learn-with-rabbi-wolkoff-2/2026-04-22/
LOCATION:Congregation B’nai Tikvah\, 1001 Finnegans Lane\, North Brunswick\, NJ\, 08902\, United States
CATEGORIES:Adult Education
ATTACH;FMTTYPE=image/jpeg:https://bnaitikvah.org/wp-content/uploads/2021/02/lunch-and-learn.jpg
ORGANIZER;CN="Congregation B'nai Tikvah":MAILTO:office@bnaitikvah.org
END:VEVENT
END:VCALENDAR