BEGIN:VCALENDAR
VERSION:2.0
PRODID:-//Congregation B&#039;nai Tikvah - ECPv6.15.20//NONSGML v1.0//EN
CALSCALE:GREGORIAN
METHOD:PUBLISH
X-WR-CALNAME:Congregation B&#039;nai Tikvah
X-ORIGINAL-URL:https://bnaitikvah.org
X-WR-CALDESC:Events for Congregation B&#039;nai Tikvah
REFRESH-INTERVAL;VALUE=DURATION:PT1H
X-Robots-Tag:noindex
X-PUBLISHED-TTL:PT1H
BEGIN:VTIMEZONE
TZID:America/New_York
BEGIN:DAYLIGHT
TZOFFSETFROM:-0500
TZOFFSETTO:-0400
TZNAME:EDT
DTSTART:20250309T070000
END:DAYLIGHT
BEGIN:STANDARD
TZOFFSETFROM:-0400
TZOFFSETTO:-0500
TZNAME:EST
DTSTART:20251102T060000
END:STANDARD
BEGIN:DAYLIGHT
TZOFFSETFROM:-0500
TZOFFSETTO:-0400
TZNAME:EDT
DTSTART:20260308T070000
END:DAYLIGHT
BEGIN:STANDARD
TZOFFSETFROM:-0400
TZOFFSETTO:-0500
TZNAME:EST
DTSTART:20261101T060000
END:STANDARD
BEGIN:DAYLIGHT
TZOFFSETFROM:-0500
TZOFFSETTO:-0400
TZNAME:EDT
DTSTART:20270314T070000
END:DAYLIGHT
BEGIN:STANDARD
TZOFFSETFROM:-0400
TZOFFSETTO:-0500
TZNAME:EST
DTSTART:20271107T060000
END:STANDARD
END:VTIMEZONE
BEGIN:VEVENT
DTSTART;TZID=America/New_York:20260509T093000
DTEND;TZID=America/New_York:20260509T133000
DTSTAMP:20260425T103153
CREATED:20260325T182302Z
LAST-MODIFIED:20260330T191724Z
UID:10007117-1778319000-1778333400@bnaitikvah.org
SUMMARY:Honoring Barry Safeer
DESCRIPTION:Join us in honoring \nBarry Safeer\, our Jr. Congregation Leader retiring after 36 years!\nServices begin at 9:30am \nLuncheon celebrating Barry following services. No fee but we ask you to RSVP below so we have enough food! \nFeel free to participate in our tribute book too! \n    Name*FirstLast    Email    Number Adults Attending    Number Children Attending    I would like to submit a tribute and pay by Select valuecheckCredit Card via PayPal    I would like this tribute size (pay by PayPal):Select tribute size18$ Well Wisher (140 characters)$54 Half Page $108 Full Page    I would like this tribute size (pay by check):Select tribute size$18 Well Wisher (140 characters)$54 Half Page$108 Full pagePlease enter your tribute below. We will only be accepting text tributes\, no images or uploads will be accepted.     TributePay With Credit Card via PayPalResetSubmitResetPlease mail your check to the synagogue office and indicate Barry on the memo line: Congregation B'nai Tikvah1001 Finnegans LaneNorth Brunswick NJ 08902
URL:https://bnaitikvah.org/event/honoring-barry-safeer/
LOCATION:Congregation B’nai Tikvah\, 1001 Finnegans Lane\, North Brunswick\, NJ\, 08902\, United States
CATEGORIES:Social
ATTACH;FMTTYPE=image/png:https://bnaitikvah.org/wp-content/uploads/2026/03/barry_honor.png
ORGANIZER;CN="Congregation B'nai Tikvah":MAILTO:office@bnaitikvah.org
END:VEVENT
BEGIN:VEVENT
DTSTART;TZID=America/New_York:20260509T120000
DTEND;TZID=America/New_York:20260509T120000
DTSTAMP:20260425T103153
CREATED:20260420T185231Z
LAST-MODIFIED:20260420T185231Z
UID:10007125-1778328000-1778328000@bnaitikvah.org
SUMMARY:Shabbat Lunch & Learn
DESCRIPTION:Join Rabbi Wolkoff for a lively discussion over Kiddush Lunch.
URL:https://bnaitikvah.org/event/shabbat-lunch-learn-2/
LOCATION:Congregation B’nai Tikvah\, 1001 Finnegans Lane\, North Brunswick\, NJ\, 08902\, United States
ATTACH;FMTTYPE=image/png:https://bnaitikvah.org/wp-content/uploads/2017/09/Lunch-and-Learn.png
ORGANIZER;CN="Congregation B'nai Tikvah":MAILTO:office@bnaitikvah.org
END:VEVENT
END:VCALENDAR